BEGIN:VCALENDAR
VERSION:2.0
PRODID:-//Willingale Village - ECPv6.15.20//NONSGML v1.0//EN
CALSCALE:GREGORIAN
METHOD:PUBLISH
X-ORIGINAL-URL:https://willingalevillage.uk
X-WR-CALDESC:Events for Willingale Village
REFRESH-INTERVAL;VALUE=DURATION:PT1H
X-Robots-Tag:noindex
X-PUBLISHED-TTL:PT1H
BEGIN:VTIMEZONE
TZID:Europe/London
BEGIN:DAYLIGHT
TZOFFSETFROM:+0000
TZOFFSETTO:+0100
TZNAME:BST
DTSTART:20240331T010000
END:DAYLIGHT
BEGIN:STANDARD
TZOFFSETFROM:+0100
TZOFFSETTO:+0000
TZNAME:GMT
DTSTART:20241027T010000
END:STANDARD
BEGIN:DAYLIGHT
TZOFFSETFROM:+0000
TZOFFSETTO:+0100
TZNAME:BST
DTSTART:20250330T010000
END:DAYLIGHT
BEGIN:STANDARD
TZOFFSETFROM:+0100
TZOFFSETTO:+0000
TZNAME:GMT
DTSTART:20251026T010000
END:STANDARD
BEGIN:DAYLIGHT
TZOFFSETFROM:+0000
TZOFFSETTO:+0100
TZNAME:BST
DTSTART:20260329T010000
END:DAYLIGHT
BEGIN:STANDARD
TZOFFSETFROM:+0100
TZOFFSETTO:+0000
TZNAME:GMT
DTSTART:20261025T010000
END:STANDARD
END:VTIMEZONE
BEGIN:VEVENT
DTSTART;TZID=Europe/London:20251109T103000
DTEND;TZID=Europe/London:20251109T113000
DTSTAMP:20260419T184638
CREATED:20250217T112442Z
LAST-MODIFIED:20251028T103748Z
UID:10005696-1762684200-1762687800@willingalevillage.uk
SUMMARY:Rememberance Day
DESCRIPTION:Please gather in St Christopher’s Church yard at 10:45am for the 11am Remembrance Service.
URL:https://willingalevillage.uk/event/rememberance-day/
LOCATION:St. Christopher’s Church
CATEGORIES:Churches
ATTACH;FMTTYPE=image/jpeg:https://willingalevillage.uk/wp-content/uploads/2017/03/P1210662.jpg
END:VEVENT
BEGIN:VEVENT
DTSTART;TZID=Europe/London:20251109T180000
DTEND;TZID=Europe/London:20251109T190000
DTSTAMP:20260419T184638
CREATED:20250217T115401Z
LAST-MODIFIED:20250217T115401Z
UID:10005697-1762711200-1762714800@willingalevillage.uk
SUMMARY:A service of memory and Hope
DESCRIPTION:Please join us as we remember all loved ones passed\, at a special service of memory and hope at 6pm\, led by Rev. Stewart. \nWe will collect names nearer the time to be read out in the service and candles will be lit.
URL:https://willingalevillage.uk/event/a-service-of-memory-and-hope/
LOCATION:St. Christopher’s Church
CATEGORIES:Churches
ATTACH;FMTTYPE=image/jpeg:https://willingalevillage.uk/wp-content/uploads/2017/03/P1210662.jpg
END:VEVENT
BEGIN:VEVENT
DTSTART;TZID=Europe/London:20251130T120000
DTEND;TZID=Europe/London:20251130T140000
DTSTAMP:20260419T184638
CREATED:20250217T115933Z
LAST-MODIFIED:20251028T104122Z
UID:10005698-1764504000-1764511200@willingalevillage.uk
SUMMARY:St Andrew's Day
DESCRIPTION:We are celebrating the Patron Saint of our Sister Church St Andrews. \nJoin us for a service in St Christopher’s at Midday\, with a processions across to St Andrews\, for prayers and a blessing\, before returning to St Christopher’s for a Scottish themed buffet. \nAll welcome\, but please contact Ian Kerwin on 07837 170816  if you are attending for catering purposes.
URL:https://willingalevillage.uk/event/st-andrews-day-3/
LOCATION:St. Christopher’s Church
CATEGORIES:Churches
ATTACH;FMTTYPE=image/jpeg:https://willingalevillage.uk/wp-content/uploads/2017/03/P1210662.jpg
END:VEVENT
END:VCALENDAR