BEGIN:VCALENDAR
VERSION:2.0
PRODID:-//Willingale Village - ECPv6.15.20//NONSGML v1.0//EN
CALSCALE:GREGORIAN
METHOD:PUBLISH
X-ORIGINAL-URL:https://willingalevillage.uk
X-WR-CALDESC:Events for Willingale Village
REFRESH-INTERVAL;VALUE=DURATION:PT1H
X-Robots-Tag:noindex
X-PUBLISHED-TTL:PT1H
BEGIN:VTIMEZONE
TZID:Europe/London
BEGIN:DAYLIGHT
TZOFFSETFROM:+0000
TZOFFSETTO:+0100
TZNAME:BST
DTSTART:20250330T010000
END:DAYLIGHT
BEGIN:STANDARD
TZOFFSETFROM:+0100
TZOFFSETTO:+0000
TZNAME:GMT
DTSTART:20251026T010000
END:STANDARD
BEGIN:DAYLIGHT
TZOFFSETFROM:+0000
TZOFFSETTO:+0100
TZNAME:BST
DTSTART:20260329T010000
END:DAYLIGHT
BEGIN:STANDARD
TZOFFSETFROM:+0100
TZOFFSETTO:+0000
TZNAME:GMT
DTSTART:20261025T010000
END:STANDARD
BEGIN:DAYLIGHT
TZOFFSETFROM:+0000
TZOFFSETTO:+0100
TZNAME:BST
DTSTART:20270328T010000
END:DAYLIGHT
BEGIN:STANDARD
TZOFFSETFROM:+0100
TZOFFSETTO:+0000
TZNAME:GMT
DTSTART:20271031T010000
END:STANDARD
END:VTIMEZONE
BEGIN:VEVENT
DTSTART;TZID=Europe/London:20260218T180000
DTEND;TZID=Europe/London:20260218T190000
DTSTAMP:20260419T173249
CREATED:20260119T113511Z
LAST-MODIFIED:20260119T113609Z
UID:10005722-1771437600-1771441200@willingalevillage.uk
SUMMARY:Ash Wednesday
DESCRIPTION:Please join us for our Ash Wednesday Service at 6pm. All welcome.
URL:https://willingalevillage.uk/event/ash-wednesday-5/
LOCATION:St. Christopher’s Church
CATEGORIES:Churches
ATTACH;FMTTYPE=image/jpeg:https://willingalevillage.uk/wp-content/uploads/2017/03/P1210662.jpg
END:VEVENT
END:VCALENDAR