BEGIN:VCALENDAR
VERSION:2.0
PRODID:-//Willingale Village - ECPv6.15.20//NONSGML v1.0//EN
CALSCALE:GREGORIAN
METHOD:PUBLISH
X-ORIGINAL-URL:https://willingalevillage.uk
X-WR-CALDESC:Events for Willingale Village
REFRESH-INTERVAL;VALUE=DURATION:PT1H
X-Robots-Tag:noindex
X-PUBLISHED-TTL:PT1H
BEGIN:VTIMEZONE
TZID:Europe/London
BEGIN:DAYLIGHT
TZOFFSETFROM:+0000
TZOFFSETTO:+0100
TZNAME:BST
DTSTART:20240331T010000
END:DAYLIGHT
BEGIN:STANDARD
TZOFFSETFROM:+0100
TZOFFSETTO:+0000
TZNAME:GMT
DTSTART:20241027T010000
END:STANDARD
BEGIN:DAYLIGHT
TZOFFSETFROM:+0000
TZOFFSETTO:+0100
TZNAME:BST
DTSTART:20250330T010000
END:DAYLIGHT
BEGIN:STANDARD
TZOFFSETFROM:+0100
TZOFFSETTO:+0000
TZNAME:GMT
DTSTART:20251026T010000
END:STANDARD
BEGIN:DAYLIGHT
TZOFFSETFROM:+0000
TZOFFSETTO:+0100
TZNAME:BST
DTSTART:20260329T010000
END:DAYLIGHT
BEGIN:STANDARD
TZOFFSETFROM:+0100
TZOFFSETTO:+0000
TZNAME:GMT
DTSTART:20261025T010000
END:STANDARD
END:VTIMEZONE
BEGIN:VEVENT
DTSTART;TZID=Europe/London:20250905T103000
DTEND;TZID=Europe/London:20250905T130000
DTSTAMP:20260419T213852
CREATED:20240717T081559Z
LAST-MODIFIED:20240717T081559Z
UID:10005239-1757068200-1757077200@willingalevillage.uk
SUMMARY:Friday Catch Up
DESCRIPTION:Friday Catch Up does ‘Brunch’ at the Village Hall every Friday 10.30am-1pm for Willingale Residents only. \nPop in\, say hello and catch up with friends\, conversation\, local and wider news and Coffee with cops and other organisations that visit. \nWe serve freshly cooked sausages\, bacon\, poached eggs\, hash browns\, mushrooms\, tomatoes and baked beans £5.00.  Lighter options of fruit and toast are also available £2.00\, or just pop in for a coffee/tea and a biscuit £1.00 \nIf you would like to know more\, call Dawn on 01277 896533. \n*Please book in if you require a full meal.
URL:https://willingalevillage.uk/event/friday-catch-up-70/2025-09-05/
LOCATION:The Cleminson Room
CATEGORIES:Family Fun,Other,Social
ATTACH;FMTTYPE=image/png:https://willingalevillage.uk/wp-content/uploads/2017/10/400px-CoffeeCup.svg_.png
END:VEVENT
BEGIN:VEVENT
DTSTART;TZID=Europe/London:20250905T190000
DTEND;TZID=Europe/London:20250905T230000
DTSTAMP:20260419T213852
CREATED:20240717T082054Z
LAST-MODIFIED:20240717T082152Z
UID:10005457-1757098800-1757113200@willingalevillage.uk
SUMMARY:Willingale Sports & Social Club Bar
DESCRIPTION:The bar is open for members.
URL:https://willingalevillage.uk/event/willingale-sports-social-club-bar-129/2025-09-05/
LOCATION:The Cleminson Room
CATEGORIES:Family Fun,Other,Social,Sports and Social
ATTACH;FMTTYPE=image/jpeg:https://willingalevillage.uk/wp-content/uploads/2019/06/ssc430-1.jpg
END:VEVENT
BEGIN:VEVENT
DTSTART;TZID=Europe/London:20250905T190000
DTEND;TZID=Europe/London:20250905T233000
DTSTAMP:20260419T213852
CREATED:20250827T081928Z
LAST-MODIFIED:20250827T081928Z
UID:10005717-1757098800-1757115000@willingalevillage.uk
SUMMARY:Italian Pizza Night
DESCRIPTION:Join us on Friday 5th September. Bar open at 7pm. Complimentary homemade Pizzas served from 7.30pm. \nGuest Italian Beers will also be available to purchase. \nAll welcome.
URL:https://willingalevillage.uk/event/italian-pizza-night-2/
LOCATION:The Cleminson Room
CATEGORIES:Family Fun,Other,Social,Sports and Social
ATTACH;FMTTYPE=image/jpeg:https://willingalevillage.uk/wp-content/uploads/2019/06/ssc430-1.jpg
END:VEVENT
BEGIN:VEVENT
DTSTART;TZID=Europe/London:20250907T140000
DTEND;TZID=Europe/London:20250907T170000
DTSTAMP:20260419T213852
CREATED:20240717T080702Z
LAST-MODIFIED:20240717T080702Z
UID:10004981-1757253600-1757264400@willingalevillage.uk
SUMMARY:Willingale Sports & Social Club Bar
DESCRIPTION:The bar is open for members.
URL:https://willingalevillage.uk/event/willingale-sports-social-club-bar-128/2025-09-07/
LOCATION:The Cleminson Room
CATEGORIES:Family Fun,Other,Social,Sporting,Sports and Social
ATTACH;FMTTYPE=image/jpeg:https://willingalevillage.uk/wp-content/uploads/2019/06/ssc430-1.jpg
END:VEVENT
BEGIN:VEVENT
DTSTART;TZID=Europe/London:20250912T103000
DTEND;TZID=Europe/London:20250912T130000
DTSTAMP:20260419T213852
CREATED:20240717T081559Z
LAST-MODIFIED:20240717T081559Z
UID:10005240-1757673000-1757682000@willingalevillage.uk
SUMMARY:Friday Catch Up
DESCRIPTION:Friday Catch Up does ‘Brunch’ at the Village Hall every Friday 10.30am-1pm for Willingale Residents only. \nPop in\, say hello and catch up with friends\, conversation\, local and wider news and Coffee with cops and other organisations that visit. \nWe serve freshly cooked sausages\, bacon\, poached eggs\, hash browns\, mushrooms\, tomatoes and baked beans £5.00.  Lighter options of fruit and toast are also available £2.00\, or just pop in for a coffee/tea and a biscuit £1.00 \nIf you would like to know more\, call Dawn on 01277 896533. \n*Please book in if you require a full meal.
URL:https://willingalevillage.uk/event/friday-catch-up-70/2025-09-12/
LOCATION:The Cleminson Room
CATEGORIES:Family Fun,Other,Social
ATTACH;FMTTYPE=image/png:https://willingalevillage.uk/wp-content/uploads/2017/10/400px-CoffeeCup.svg_.png
END:VEVENT
BEGIN:VEVENT
DTSTART;TZID=Europe/London:20250912T190000
DTEND;TZID=Europe/London:20250912T230000
DTSTAMP:20260419T213852
CREATED:20240717T082054Z
LAST-MODIFIED:20240717T082152Z
UID:10005458-1757703600-1757718000@willingalevillage.uk
SUMMARY:Willingale Sports & Social Club Bar
DESCRIPTION:The bar is open for members.
URL:https://willingalevillage.uk/event/willingale-sports-social-club-bar-129/2025-09-12/
LOCATION:The Cleminson Room
CATEGORIES:Family Fun,Other,Social,Sports and Social
ATTACH;FMTTYPE=image/jpeg:https://willingalevillage.uk/wp-content/uploads/2019/06/ssc430-1.jpg
END:VEVENT
BEGIN:VEVENT
DTSTART;TZID=Europe/London:20250913T080000
DTEND;TZID=Europe/London:20250913T170000
DTSTAMP:20260419T213852
CREATED:20250217T105049Z
LAST-MODIFIED:20250217T105049Z
UID:10005689-1757750400-1757782800@willingalevillage.uk
SUMMARY:Ride and Stride
DESCRIPTION:Details to follow
URL:https://willingalevillage.uk/event/ride-and-stride/
LOCATION:St. Christopher’s Church
CATEGORIES:Churches,Family Fun,Social
ATTACH;FMTTYPE=image/jpeg:https://willingalevillage.uk/wp-content/uploads/2017/03/P1210662.jpg
END:VEVENT
BEGIN:VEVENT
DTSTART;TZID=Europe/London:20250914T140000
DTEND;TZID=Europe/London:20250914T170000
DTSTAMP:20260419T213852
CREATED:20240717T080702Z
LAST-MODIFIED:20240717T080702Z
UID:10004982-1757858400-1757869200@willingalevillage.uk
SUMMARY:Willingale Sports & Social Club Bar
DESCRIPTION:The bar is open for members.
URL:https://willingalevillage.uk/event/willingale-sports-social-club-bar-128/2025-09-14/
LOCATION:The Cleminson Room
CATEGORIES:Family Fun,Other,Social,Sporting,Sports and Social
ATTACH;FMTTYPE=image/jpeg:https://willingalevillage.uk/wp-content/uploads/2019/06/ssc430-1.jpg
END:VEVENT
BEGIN:VEVENT
DTSTART;TZID=Europe/London:20250915T100000
DTEND;TZID=Europe/London:20250915T120000
DTSTAMP:20260419T213852
CREATED:20250218T125213Z
LAST-MODIFIED:20250218T125213Z
UID:10005711-1757930400-1757937600@willingalevillage.uk
SUMMARY:Tea Rooms
DESCRIPTION:Join us at the Village hall for as much Tea\, Coffee and cake as you like. \nEvery 3rd Monday of the month 10am-12pm all for £2.
URL:https://willingalevillage.uk/event/tea-rooms-22/
LOCATION:The Cleminson Room
CATEGORIES:Family Fun,Other,Social
ATTACH;FMTTYPE=image/jpeg:https://willingalevillage.uk/wp-content/uploads/2017/03/WVH.jpg
END:VEVENT
BEGIN:VEVENT
DTSTART;TZID=Europe/London:20250919T103000
DTEND;TZID=Europe/London:20250919T130000
DTSTAMP:20260419T213852
CREATED:20240717T081559Z
LAST-MODIFIED:20240717T081559Z
UID:10005241-1758277800-1758286800@willingalevillage.uk
SUMMARY:Friday Catch Up
DESCRIPTION:Friday Catch Up does ‘Brunch’ at the Village Hall every Friday 10.30am-1pm for Willingale Residents only. \nPop in\, say hello and catch up with friends\, conversation\, local and wider news and Coffee with cops and other organisations that visit. \nWe serve freshly cooked sausages\, bacon\, poached eggs\, hash browns\, mushrooms\, tomatoes and baked beans £5.00.  Lighter options of fruit and toast are also available £2.00\, or just pop in for a coffee/tea and a biscuit £1.00 \nIf you would like to know more\, call Dawn on 01277 896533. \n*Please book in if you require a full meal.
URL:https://willingalevillage.uk/event/friday-catch-up-70/2025-09-19/
LOCATION:The Cleminson Room
CATEGORIES:Family Fun,Other,Social
ATTACH;FMTTYPE=image/png:https://willingalevillage.uk/wp-content/uploads/2017/10/400px-CoffeeCup.svg_.png
END:VEVENT
BEGIN:VEVENT
DTSTART;TZID=Europe/London:20250919T190000
DTEND;TZID=Europe/London:20250919T230000
DTSTAMP:20260419T213852
CREATED:20240717T082054Z
LAST-MODIFIED:20240717T082152Z
UID:10005459-1758308400-1758322800@willingalevillage.uk
SUMMARY:Willingale Sports & Social Club Bar
DESCRIPTION:The bar is open for members.
URL:https://willingalevillage.uk/event/willingale-sports-social-club-bar-129/2025-09-19/
LOCATION:The Cleminson Room
CATEGORIES:Family Fun,Other,Social,Sports and Social
ATTACH;FMTTYPE=image/jpeg:https://willingalevillage.uk/wp-content/uploads/2019/06/ssc430-1.jpg
END:VEVENT
BEGIN:VEVENT
DTSTART;TZID=Europe/London:20250920T100000
DTEND;TZID=Europe/London:20250920T160000
DTSTAMP:20260419T213852
CREATED:20250217T105642Z
LAST-MODIFIED:20250724T064742Z
UID:10005691-1758362400-1758384000@willingalevillage.uk
SUMMARY:Heritage Open Days
DESCRIPTION:Join us for the Heritage Open Days here at St Christopher’s. The theme this year is Gargoyles to Gables Honeycomb to Spider’s Silk. \nFlowers in the church and refreshments in the marquee\, all weekend\, with The Harvest Festival on Sunday at 9.30am. \nClick the link below for full details. \nHOD 
URL:https://willingalevillage.uk/event/heritage-open-days-2/
LOCATION:St. Christopher’s Church
CATEGORIES:Churches,Family Fun,Social
ATTACH;FMTTYPE=image/jpeg:https://willingalevillage.uk/wp-content/uploads/2017/03/P1210662.jpg
END:VEVENT
BEGIN:VEVENT
DTSTART;TZID=Europe/London:20250921T093000
DTEND;TZID=Europe/London:20250921T160000
DTSTAMP:20260419T213852
CREATED:20250217T110322Z
LAST-MODIFIED:20250724T065008Z
UID:10005692-1758447000-1758470400@willingalevillage.uk
SUMMARY:Heritage Open Days and Harvest Festival
DESCRIPTION:Join us for the Heritage Open Days here at St Christopher’s. The theme this year is Gargoyles to Gables\, Honeycomb to Spider’s Silk. \nFlowers in the church and refreshments in the marquee\, all weekend\, with the Harvest Festival service at 9.30 am. \nWe will be collecting donations for the Harlow Food Bank during the service. \nClick the link for full poster/details. \nHOD
URL:https://willingalevillage.uk/event/heritage-open-days-and-harvest-festival/
LOCATION:St. Christopher’s Church
CATEGORIES:Churches,Family Fun,Other,Social
ATTACH;FMTTYPE=image/jpeg:https://willingalevillage.uk/wp-content/uploads/2017/03/P1210662.jpg
END:VEVENT
BEGIN:VEVENT
DTSTART;TZID=Europe/London:20250921T140000
DTEND;TZID=Europe/London:20250921T170000
DTSTAMP:20260419T213852
CREATED:20240717T080702Z
LAST-MODIFIED:20240717T080702Z
UID:10004983-1758463200-1758474000@willingalevillage.uk
SUMMARY:Willingale Sports & Social Club Bar
DESCRIPTION:The bar is open for members.
URL:https://willingalevillage.uk/event/willingale-sports-social-club-bar-128/2025-09-21/
LOCATION:The Cleminson Room
CATEGORIES:Family Fun,Other,Social,Sporting,Sports and Social
ATTACH;FMTTYPE=image/jpeg:https://willingalevillage.uk/wp-content/uploads/2019/06/ssc430-1.jpg
END:VEVENT
BEGIN:VEVENT
DTSTART;TZID=Europe/London:20250926T103000
DTEND;TZID=Europe/London:20250926T130000
DTSTAMP:20260419T213852
CREATED:20240717T081559Z
LAST-MODIFIED:20240717T081559Z
UID:10005242-1758882600-1758891600@willingalevillage.uk
SUMMARY:Friday Catch Up
DESCRIPTION:Friday Catch Up does ‘Brunch’ at the Village Hall every Friday 10.30am-1pm for Willingale Residents only. \nPop in\, say hello and catch up with friends\, conversation\, local and wider news and Coffee with cops and other organisations that visit. \nWe serve freshly cooked sausages\, bacon\, poached eggs\, hash browns\, mushrooms\, tomatoes and baked beans £5.00.  Lighter options of fruit and toast are also available £2.00\, or just pop in for a coffee/tea and a biscuit £1.00 \nIf you would like to know more\, call Dawn on 01277 896533. \n*Please book in if you require a full meal.
URL:https://willingalevillage.uk/event/friday-catch-up-70/2025-09-26/
LOCATION:The Cleminson Room
CATEGORIES:Family Fun,Other,Social
ATTACH;FMTTYPE=image/png:https://willingalevillage.uk/wp-content/uploads/2017/10/400px-CoffeeCup.svg_.png
END:VEVENT
BEGIN:VEVENT
DTSTART;TZID=Europe/London:20250926T190000
DTEND;TZID=Europe/London:20250926T230000
DTSTAMP:20260419T213852
CREATED:20240717T082054Z
LAST-MODIFIED:20240717T082152Z
UID:10005460-1758913200-1758927600@willingalevillage.uk
SUMMARY:Willingale Sports & Social Club Bar
DESCRIPTION:The bar is open for members.
URL:https://willingalevillage.uk/event/willingale-sports-social-club-bar-129/2025-09-26/
LOCATION:The Cleminson Room
CATEGORIES:Family Fun,Other,Social,Sports and Social
ATTACH;FMTTYPE=image/jpeg:https://willingalevillage.uk/wp-content/uploads/2019/06/ssc430-1.jpg
END:VEVENT
BEGIN:VEVENT
DTSTART;TZID=Europe/London:20250927T193000
DTEND;TZID=Europe/London:20250927T213000
DTSTAMP:20260419T213852
CREATED:20250724T065728Z
LAST-MODIFIED:20250724T065728Z
UID:10005716-1759001400-1759008600@willingalevillage.uk
SUMMARY:People of the Green Concert
DESCRIPTION:Join us for a wonderful return of People of the Green in choral concert. \nPlease click link for full details below. \nPofG flyer 2025
URL:https://willingalevillage.uk/event/people-of-the-green-concert-2/
LOCATION:St. Christopher’s Church
CATEGORIES:Churches,Family Fun,Social
ATTACH;FMTTYPE=image/jpeg:https://willingalevillage.uk/wp-content/uploads/2017/03/P1210662.jpg
END:VEVENT
BEGIN:VEVENT
DTSTART;TZID=Europe/London:20250928T093000
DTEND;TZID=Europe/London:20250928T103000
DTSTAMP:20260419T213852
CREATED:20250217T111212Z
LAST-MODIFIED:20250217T111212Z
UID:10005694-1759051800-1759055400@willingalevillage.uk
SUMMARY:Archdeacon Jonathan Croucher visit for Family Service
DESCRIPTION:Join us as the Archdeacon Jonathan Croucher visits us for the Family Service.
URL:https://willingalevillage.uk/event/archdeacon-jonathan-croucher-visit-for-family-service/
LOCATION:St. Christopher’s Church
CATEGORIES:Churches
ATTACH;FMTTYPE=image/jpeg:https://willingalevillage.uk/wp-content/uploads/2017/03/P1210662.jpg
END:VEVENT
BEGIN:VEVENT
DTSTART;TZID=Europe/London:20250928T140000
DTEND;TZID=Europe/London:20250928T170000
DTSTAMP:20260419T213852
CREATED:20240717T080702Z
LAST-MODIFIED:20240717T080702Z
UID:10004984-1759068000-1759078800@willingalevillage.uk
SUMMARY:Willingale Sports & Social Club Bar
DESCRIPTION:The bar is open for members.
URL:https://willingalevillage.uk/event/willingale-sports-social-club-bar-128/2025-09-28/
LOCATION:The Cleminson Room
CATEGORIES:Family Fun,Other,Social,Sporting,Sports and Social
ATTACH;FMTTYPE=image/jpeg:https://willingalevillage.uk/wp-content/uploads/2019/06/ssc430-1.jpg
END:VEVENT
END:VCALENDAR