BEGIN:VCALENDAR
VERSION:2.0
PRODID:-//Willingale Village - ECPv6.15.20//NONSGML v1.0//EN
CALSCALE:GREGORIAN
METHOD:PUBLISH
X-WR-CALNAME:Willingale Village
X-ORIGINAL-URL:https://willingalevillage.uk
X-WR-CALDESC:Events for Willingale Village
REFRESH-INTERVAL;VALUE=DURATION:PT1H
X-Robots-Tag:noindex
X-PUBLISHED-TTL:PT1H
BEGIN:VTIMEZONE
TZID:Europe/London
BEGIN:DAYLIGHT
TZOFFSETFROM:+0000
TZOFFSETTO:+0100
TZNAME:BST
DTSTART:20210328T010000
END:DAYLIGHT
BEGIN:STANDARD
TZOFFSETFROM:+0100
TZOFFSETTO:+0000
TZNAME:GMT
DTSTART:20211031T010000
END:STANDARD
BEGIN:DAYLIGHT
TZOFFSETFROM:+0000
TZOFFSETTO:+0100
TZNAME:BST
DTSTART:20220327T010000
END:DAYLIGHT
BEGIN:STANDARD
TZOFFSETFROM:+0100
TZOFFSETTO:+0000
TZNAME:GMT
DTSTART:20221030T010000
END:STANDARD
BEGIN:DAYLIGHT
TZOFFSETFROM:+0000
TZOFFSETTO:+0100
TZNAME:BST
DTSTART:20230326T010000
END:DAYLIGHT
BEGIN:STANDARD
TZOFFSETFROM:+0100
TZOFFSETTO:+0000
TZNAME:GMT
DTSTART:20231029T010000
END:STANDARD
BEGIN:DAYLIGHT
TZOFFSETFROM:+0000
TZOFFSETTO:+0100
TZNAME:BST
DTSTART:20240331T010000
END:DAYLIGHT
BEGIN:STANDARD
TZOFFSETFROM:+0100
TZOFFSETTO:+0000
TZNAME:GMT
DTSTART:20241027T010000
END:STANDARD
END:VTIMEZONE
BEGIN:VEVENT
DTSTART;TZID=Europe/London:20230520T140000
DTEND;TZID=Europe/London:20230520T170000
DTSTAMP:20260421T063655
CREATED:20230131T121600Z
LAST-MODIFIED:20230131T121600Z
UID:10004836-1684591200-1684602000@willingalevillage.uk
SUMMARY:Organ Recital
DESCRIPTION:
URL:https://willingalevillage.uk/event/organ-recital-3/
LOCATION:St. Christopher’s Church
CATEGORIES:Churches,Family Fun,Social
ATTACH;FMTTYPE=image/jpeg:https://willingalevillage.uk/wp-content/uploads/2017/03/P1210662.jpg
END:VEVENT
BEGIN:VEVENT
DTSTART;TZID=Europe/London:20230514T093000
DTEND;TZID=Europe/London:20230514T170000
DTSTAMP:20260421T063655
CREATED:20230131T120108Z
LAST-MODIFIED:20230213T101852Z
UID:10004835-1684056600-1684083600@willingalevillage.uk
SUMMARY:Rogation Walk & Chilli
DESCRIPTION:
URL:https://willingalevillage.uk/event/rogation-walk-chilli-2/
LOCATION:The Main Hall
CATEGORIES:Churches,Family Fun,Social,Sporting,Sports and Social,The Village Hall
ATTACH;FMTTYPE=image/jpeg:https://willingalevillage.uk/wp-content/uploads/2019/06/ssc430-1.jpg
END:VEVENT
BEGIN:VEVENT
DTSTART;TZID=Europe/London:20230507T103000
DTEND;TZID=Europe/London:20230507T140000
DTSTAMP:20260421T063655
CREATED:20230221T102857Z
LAST-MODIFIED:20230221T104127Z
UID:10004846-1683455400-1683468000@willingalevillage.uk
SUMMARY:The King's Coronation
DESCRIPTION:CoronationPlease join us at St Christopher’s on Sunday 7th May for a day of celebrations\, crowning His Majesty the King.\nPlease click the link below for full details. \nCoronation Information
URL:https://willingalevillage.uk/event/the-kings-coronation/
LOCATION:St. Christopher’s Church
CATEGORIES:Churches,Educational,Family Fun,Other,Social,The Bell Ringers
ATTACH;FMTTYPE=image/jpeg:https://willingalevillage.uk/wp-content/uploads/2017/03/P1210662.jpg
END:VEVENT
BEGIN:VEVENT
DTSTART;TZID=Europe/London:20230422T190000
DTEND;TZID=Europe/London:20230422T230000
DTSTAMP:20260421T063655
CREATED:20230213T101201Z
LAST-MODIFIED:20230213T101201Z
UID:10004845-1682190000-1682204400@willingalevillage.uk
SUMMARY:Village Hall Committee Quiz
DESCRIPTION:
URL:https://willingalevillage.uk/event/village-hall-committee-quiz/
LOCATION:The Main Hall
CATEGORIES:Family Fun,Other,Social,The Village Hall
ATTACH;FMTTYPE=image/jpeg:https://willingalevillage.uk/wp-content/uploads/2017/03/WVH.jpg
END:VEVENT
BEGIN:VEVENT
DTSTART;TZID=Europe/London:20230415T080000
DTEND;TZID=Europe/London:20230415T170000
DTSTAMP:20260421T063655
CREATED:20230131T115155Z
LAST-MODIFIED:20230131T115643Z
UID:10004834-1681545600-1681578000@willingalevillage.uk
SUMMARY:The Grand National
DESCRIPTION:
URL:https://willingalevillage.uk/event/the-grand-national/
LOCATION:The Cleminson Room
CATEGORIES:Family Fun,Social,Sporting,Sports and Social,The Village Hall
ATTACH;FMTTYPE=image/jpeg:https://willingalevillage.uk/wp-content/uploads/2019/06/ssc430-1.jpg
END:VEVENT
BEGIN:VEVENT
DTSTART;TZID=Europe/London:20230409T093000
DTEND;TZID=Europe/London:20230409T103000
DTSTAMP:20260421T063655
CREATED:20230131T114915Z
LAST-MODIFIED:20230213T101747Z
UID:10004833-1681032600-1681036200@willingalevillage.uk
SUMMARY:Easter Day
DESCRIPTION:
URL:https://willingalevillage.uk/event/easter-day/
LOCATION:St. Christopher’s Church
CATEGORIES:Churches
ATTACH;FMTTYPE=image/jpeg:https://willingalevillage.uk/wp-content/uploads/2017/03/P1210662.jpg
END:VEVENT
BEGIN:VEVENT
DTSTART;TZID=Europe/London:20230401T193000
DTEND;TZID=Europe/London:20230401T223000
DTSTAMP:20260421T063655
CREATED:20221207T170646Z
LAST-MODIFIED:20221207T171857Z
UID:10004832-1680377400-1680388200@willingalevillage.uk
SUMMARY:People of The Green
DESCRIPTION:Details to follow
URL:https://willingalevillage.uk/event/people-of-the-green/
LOCATION:St. Christopher’s Church
CATEGORIES:Churches,Family Fun,Social
ATTACH;FMTTYPE=image/jpeg:https://willingalevillage.uk/wp-content/uploads/2017/03/P1210662.jpg
END:VEVENT
BEGIN:VEVENT
DTSTART;TZID=Europe/London:20230319T093000
DTEND;TZID=Europe/London:20230319T103000
DTSTAMP:20260421T063655
CREATED:20221207T165901Z
LAST-MODIFIED:20221207T165901Z
UID:10004831-1679218200-1679221800@willingalevillage.uk
SUMMARY:Mothering Sunday
DESCRIPTION:All Welcome to join for a service celebrating our Mothers\, near or far. \nRefreshments will be served afterwards.
URL:https://willingalevillage.uk/event/mothering-sunday/
LOCATION:St. Christopher’s Church
CATEGORIES:Churches,Family Fun
ATTACH;FMTTYPE=image/jpeg:https://willingalevillage.uk/wp-content/uploads/2017/03/P1210662.jpg
END:VEVENT
BEGIN:VEVENT
DTSTART;TZID=Europe/London:20230303T190000
DTEND;TZID=Europe/London:20230303T230000
DTSTAMP:20260421T063655
CREATED:20221207T164901Z
LAST-MODIFIED:20221207T164901Z
UID:10004830-1677870000-1677884400@willingalevillage.uk
SUMMARY:Pub Quiz
DESCRIPTION:
URL:https://willingalevillage.uk/event/pub-quiz-3/
LOCATION:The Cleminson Room
CATEGORIES:Family Fun,Other,Social,Sports and Social
ATTACH;FMTTYPE=image/jpeg:https://willingalevillage.uk/wp-content/uploads/2019/05/Capture.jpg
END:VEVENT
BEGIN:VEVENT
DTSTART;TZID=Europe/London:20230222T193000
DTEND;TZID=Europe/London:20230222T203000
DTSTAMP:20260421T063655
CREATED:20221207T160429Z
LAST-MODIFIED:20230222T091616Z
UID:10004829-1677094200-1677097800@willingalevillage.uk
SUMMARY:Ash Wednesday
DESCRIPTION:The service for Ash Wednesday will be at St Nicholas in Fyfield at 7.30 pm. Led by Bishiop Cullens of Barking. All welcome.
URL:https://willingalevillage.uk/event/ash-wednesday-2/
LOCATION:St. Christopher’s Church
CATEGORIES:Churches
ATTACH;FMTTYPE=image/jpeg:https://willingalevillage.uk/wp-content/uploads/2017/03/P1210662.jpg
END:VEVENT
BEGIN:VEVENT
DTSTART;TZID=Europe/London:20230204T193000
DTEND;TZID=Europe/London:20230204T230000
DTSTAMP:20260421T063655
CREATED:20221124T170550Z
LAST-MODIFIED:20221124T170840Z
UID:10004606-1675539000-1675551600@willingalevillage.uk
SUMMARY:Wamdrams Presents Pinocchio
DESCRIPTION:Please click here for full details.
URL:https://willingalevillage.uk/event/wamdrams-presents-pinocchio-4/
LOCATION:The Main Hall
CATEGORIES:Family Fun,Social,The Village Hall,Wamdrams
ATTACH;FMTTYPE=image/jpeg:https://willingalevillage.uk/wp-content/uploads/2017/03/cropped-Pic2.jpg
END:VEVENT
BEGIN:VEVENT
DTSTART;TZID=Europe/London:20230204T143000
DTEND;TZID=Europe/London:20230204T173000
DTSTAMP:20260421T063655
CREATED:20221124T170334Z
LAST-MODIFIED:20221124T170732Z
UID:10004605-1675521000-1675531800@willingalevillage.uk
SUMMARY:Wamdrams presents Pinocchio
DESCRIPTION:Please click here for full details.
URL:https://willingalevillage.uk/event/wamdrams-presents-pinocchio-3/
LOCATION:The Main Hall
CATEGORIES:Family Fun,Social,The Village Hall,Wamdrams
ATTACH;FMTTYPE=image/jpeg:https://willingalevillage.uk/wp-content/uploads/2017/03/cropped-Pic2.jpg
END:VEVENT
BEGIN:VEVENT
DTSTART;TZID=Europe/London:20230203T193000
DTEND;TZID=Europe/London:20230203T223000
DTSTAMP:20260421T063655
CREATED:20221124T170031Z
LAST-MODIFIED:20221124T170031Z
UID:10004604-1675452600-1675463400@willingalevillage.uk
SUMMARY:Wamdrams Presents Pinocchio
DESCRIPTION:Please click here for \,more details.
URL:https://willingalevillage.uk/event/wamdrams-presents-pinocchio-2/
LOCATION:The Main Hall
CATEGORIES:Family Fun,Social,The Village Hall,Wamdrams
ATTACH;FMTTYPE=image/jpeg:https://willingalevillage.uk/wp-content/uploads/2017/03/cropped-Pic2.jpg
END:VEVENT
BEGIN:VEVENT
DTSTART;TZID=Europe/London:20230202T193000
DTEND;TZID=Europe/London:20230202T223000
DTSTAMP:20260421T063655
CREATED:20221124T165717Z
LAST-MODIFIED:20221124T165717Z
UID:10004603-1675366200-1675377000@willingalevillage.uk
SUMMARY:Wamdrams presents Pinocchio
DESCRIPTION:Please here here for full details.
URL:https://willingalevillage.uk/event/wamdrams-presents-pinocchio/
LOCATION:The Main Hall
CATEGORIES:Family Fun,Social,The Village Hall,Wamdrams
ATTACH;FMTTYPE=image/jpeg:https://willingalevillage.uk/wp-content/uploads/2017/03/cropped-Pic2.jpg
END:VEVENT
BEGIN:VEVENT
DTSTART;TZID=Europe/London:20230127T190000
DTEND;TZID=Europe/London:20230127T230000
DTSTAMP:20260421T063655
CREATED:20221207T155509Z
LAST-MODIFIED:20221207T155509Z
UID:10004828-1674846000-1674860400@willingalevillage.uk
SUMMARY:Burns Night
DESCRIPTION:
URL:https://willingalevillage.uk/event/burns-night/
LOCATION:The Cleminson Room
CATEGORIES:Family Fun,Other,Social,Sports and Social
ATTACH;FMTTYPE=image/jpeg:https://willingalevillage.uk/wp-content/uploads/2019/05/Capture.jpg
END:VEVENT
BEGIN:VEVENT
DTSTART;TZID=Europe/London:20221211T180000
DTEND;TZID=Europe/London:20221211T190000
DTSTAMP:20260421T063655
CREATED:20220622T080658Z
LAST-MODIFIED:20220622T080658Z
UID:10004820-1670781600-1670785200@willingalevillage.uk
SUMMARY:Evensong
DESCRIPTION:Please join us for a service of Evening Prayer at 6pm led by Reverend Gibbs.
URL:https://willingalevillage.uk/event/evensong-6/
LOCATION:St. Christopher’s Church
CATEGORIES:Churches
ATTACH;FMTTYPE=image/jpeg:https://willingalevillage.uk/wp-content/uploads/2017/03/P1210662.jpg
END:VEVENT
BEGIN:VEVENT
DTSTART;TZID=Europe/London:20221210T143000
DTEND;TZID=Europe/London:20221210T180000
DTSTAMP:20260421T063655
CREATED:20221205T114947Z
LAST-MODIFIED:20221205T114947Z
UID:10004827-1670682600-1670695200@willingalevillage.uk
SUMMARY:Bell Ringers Carol Service
DESCRIPTION:The Bell Ringers Association North Western District\, is holding its Carol Service on the 10th December 2022 at St Christopher’s at 4pm. \nPlease click the link below for full details. \nChristmas Festivities Commence Bell Ringers.
URL:https://willingalevillage.uk/event/bell-ringers-carol-service/
LOCATION:St. Christopher’s Church
CATEGORIES:Churches,Family Fun,Social
ATTACH;FMTTYPE=image/jpeg:https://willingalevillage.uk/wp-content/uploads/2017/03/Bells-2.jpg
END:VEVENT
BEGIN:VEVENT
DTSTART;TZID=Europe/London:20221204T080000
DTEND;TZID=Europe/London:20221204T170000
DTSTAMP:20260421T063655
CREATED:20220622T081734Z
LAST-MODIFIED:20220622T082128Z
UID:10004826-1670140800-1670173200@willingalevillage.uk
SUMMARY:Holy Communion
DESCRIPTION:Please join us for a service of Holy Communion at 9.30 am. \nRefreshments will be served afterwards in the North Isle.
URL:https://willingalevillage.uk/event/holy-communion-12/
LOCATION:St. Christopher’s Church
CATEGORIES:Churches
ATTACH;FMTTYPE=image/jpeg:https://willingalevillage.uk/wp-content/uploads/2017/03/P1210662.jpg
END:VEVENT
BEGIN:VEVENT
DTSTART;TZID=Europe/London:20221127T093000
DTEND;TZID=Europe/London:20221127T103000
DTSTAMP:20260421T063655
CREATED:20220622T075136Z
LAST-MODIFIED:20220622T075136Z
UID:10004814-1669541400-1669545000@willingalevillage.uk
SUMMARY:Family Service
DESCRIPTION:Please join us for a family service led by Jane and Peter 9.30am. \nAll families welcome and children are invited to take part in activities throughout the service in the North Isle. \nRefreshments served afterwards in the North Isle.
URL:https://willingalevillage.uk/event/family-service-12/
LOCATION:St. Christopher’s Church
CATEGORIES:Churches,Family Fun
ATTACH;FMTTYPE=image/jpeg:https://willingalevillage.uk/wp-content/uploads/2017/03/P1210662.jpg
END:VEVENT
BEGIN:VEVENT
DTSTART;TZID=Europe/London:20221113T180000
DTEND;TZID=Europe/London:20221113T190000
DTSTAMP:20260421T063655
CREATED:20220622T080550Z
LAST-MODIFIED:20221024T151715Z
UID:10004819-1668362400-1668366000@willingalevillage.uk
SUMMARY:Evensong/ Service of Memory and Hope
DESCRIPTION:Please join us for a service of Evening Prayer at 6pm led by Reverend Gibbs. \nFor this special service of Evensong\, it will include a Service of Memory and Hope. \nReverend Gibbs will read out names of loved ones we wish to remember and candles can be lit as a tribute. \nThe usual time of 6pm.
URL:https://willingalevillage.uk/event/evensong-5/
LOCATION:St. Christopher’s Church
CATEGORIES:Churches
ATTACH;FMTTYPE=image/jpeg:https://willingalevillage.uk/wp-content/uploads/2017/03/P1210662.jpg
END:VEVENT
BEGIN:VEVENT
DTSTART;TZID=Europe/London:20221113T103000
DTEND;TZID=Europe/London:20221113T110000
DTSTAMP:20260421T063655
CREATED:20221024T144546Z
LAST-MODIFIED:20221024T144546Z
UID:10004602-1668335400-1668337200@willingalevillage.uk
SUMMARY:Act of Remembrance
DESCRIPTION:There will be an Act of Remembrance Sunday 13th November\, led by Graham Cass. \nPlease gather at 10:45am.
URL:https://willingalevillage.uk/event/act-of-remembrance-2/
LOCATION:St. Christopher’s Church
CATEGORIES:Churches
ATTACH;FMTTYPE=image/jpeg:https://willingalevillage.uk/wp-content/uploads/2017/03/P1210662.jpg
END:VEVENT
BEGIN:VEVENT
DTSTART;TZID=Europe/London:20221106T093000
DTEND;TZID=Europe/London:20221106T103000
DTSTAMP:20260421T063655
CREATED:20220622T081625Z
LAST-MODIFIED:20220622T082018Z
UID:10004825-1667727000-1667730600@willingalevillage.uk
SUMMARY:Holy Communion
DESCRIPTION:Please join us for a service of Holy Communion at 9.30 am. \nRefreshments will be served afterwards in the North Isle.
URL:https://willingalevillage.uk/event/holy-communion-11/
LOCATION:St. Christopher’s Church
CATEGORIES:Churches
ATTACH;FMTTYPE=image/jpeg:https://willingalevillage.uk/wp-content/uploads/2017/03/P1210662.jpg
END:VEVENT
BEGIN:VEVENT
DTSTART;TZID=Europe/London:20221029T190000
DTEND;TZID=Europe/London:20221029T223000
DTSTAMP:20260421T063655
CREATED:20221001T120120Z
LAST-MODIFIED:20221003T095303Z
UID:10004601-1667070000-1667082600@willingalevillage.uk
SUMMARY:Quiz Night SOLD OUT!
DESCRIPTION:St Christopher’s are re igniting the wonderful Quiz Night\, \nPlease see flyer attached for full details. \nQuiz flyer A5 V3 \nSOLD OUT
URL:https://willingalevillage.uk/event/quiz-night/
LOCATION:The Main Hall and the Cleminson Room
CATEGORIES:Churches,Family Fun,Social,The Village Hall
ATTACH;FMTTYPE=image/jpeg:https://willingalevillage.uk/wp-content/uploads/2017/03/WVH.jpg
END:VEVENT
BEGIN:VEVENT
DTSTART;TZID=Europe/London:20221023T093000
DTEND;TZID=Europe/London:20221023T103000
DTSTAMP:20260421T063655
CREATED:20220622T074843Z
LAST-MODIFIED:20220622T074843Z
UID:10004812-1666517400-1666521000@willingalevillage.uk
SUMMARY:Family Service
DESCRIPTION:Please join us for a family service led by Jane and Peter 9.30am. \nAll families welcome and children are invited to take part in activities throughout the service in the North Isle. \nRefreshments served afterwards in the North Isle.
URL:https://willingalevillage.uk/event/family-service-11/
LOCATION:St. Christopher’s Church
CATEGORIES:Churches,Family Fun
ATTACH;FMTTYPE=image/jpeg:https://willingalevillage.uk/wp-content/uploads/2017/03/P1210662.jpg
END:VEVENT
BEGIN:VEVENT
DTSTART;TZID=Europe/London:20221009T180000
DTEND;TZID=Europe/London:20221009T190000
DTSTAMP:20260421T063655
CREATED:20220622T080356Z
LAST-MODIFIED:20220622T080356Z
UID:10004818-1665338400-1665342000@willingalevillage.uk
SUMMARY:Evensong
DESCRIPTION:Please join us for a service of Evening Prayer at 6pm led by Reverend Gibbs.
URL:https://willingalevillage.uk/event/evensong-4/
LOCATION:St. Christopher’s Church
CATEGORIES:Churches
ATTACH;FMTTYPE=image/jpeg:https://willingalevillage.uk/wp-content/uploads/2017/03/P1210662.jpg
END:VEVENT
BEGIN:VEVENT
DTSTART;TZID=Europe/London:20221002T093000
DTEND;TZID=Europe/London:20221002T103000
DTSTAMP:20260421T063655
CREATED:20220622T081511Z
LAST-MODIFIED:20220622T081511Z
UID:10004824-1664703000-1664706600@willingalevillage.uk
SUMMARY:Holy Communion
DESCRIPTION:Please join us for a service of Holy Communion at 9.30 am. \nRefreshments will be served afterwards in the North Isle.
URL:https://willingalevillage.uk/event/holy-communion-10/
LOCATION:St. Christopher’s Church
CATEGORIES:Churches
ATTACH;FMTTYPE=image/jpeg:https://willingalevillage.uk/wp-content/uploads/2017/03/P1210662.jpg
END:VEVENT
BEGIN:VEVENT
DTSTART;TZID=Europe/London:20220925T093000
DTEND;TZID=Europe/London:20220925T103000
DTSTAMP:20260421T063655
CREATED:20220622T074735Z
LAST-MODIFIED:20220622T074735Z
UID:10004596-1664098200-1664101800@willingalevillage.uk
SUMMARY:Family Service
DESCRIPTION:Please join us for a family service led by Jane and Peter 9.30am. \nAll families welcome and children are invited to take part in activities throughout the service in the North Isle. \nRefreshments served afterwards in the North Isle.
URL:https://willingalevillage.uk/event/family-service-10/
LOCATION:St. Christopher’s Church
CATEGORIES:Churches,Family Fun
ATTACH;FMTTYPE=image/jpeg:https://willingalevillage.uk/wp-content/uploads/2017/03/P1210662.jpg
END:VEVENT
BEGIN:VEVENT
DTSTART;TZID=Europe/London:20220918T133000
DTEND;TZID=Europe/London:20220918T143000
DTSTAMP:20260421T063655
CREATED:20220815T101710Z
LAST-MODIFIED:20220815T101710Z
UID:10004599-1663507800-1663511400@willingalevillage.uk
SUMMARY:Airfield Memorial Unveiling
DESCRIPTION:Please join us on Sunday 18th September at 1.30pm for the unveiling of the Airfield Memorial at the WW2 Willingale Airfield. \nFyfield Road\nCM5 0QA. \nThe unveiling will be undertaken by our local MP Alex Burghart. \nThere will be a display of  military vehicles and from the Village Archive. \nPlease click the link below for details. \nAirfield poster
URL:https://willingalevillage.uk/event/airfield-memorial-unveiling/
ATTACH;FMTTYPE=image/jpeg:https://willingalevillage.uk/wp-content/uploads/2017/09/Major-Dace-Family.jpg
END:VEVENT
BEGIN:VEVENT
DTSTART;TZID=Europe/London:20220918T093000
DTEND;TZID=Europe/London:20220918T103000
DTSTAMP:20260421T063655
CREATED:20220117T125856Z
LAST-MODIFIED:20220809T082027Z
UID:10004804-1663493400-1663497000@willingalevillage.uk
SUMMARY:Harvest Festival & HOD Weekend
DESCRIPTION:Please join us for a service of Harvest Festival and the Heritage Open Day Weekend. \nRefreshments will be served in the marquee afterwards. \nHOD POSTER 2022
URL:https://willingalevillage.uk/event/harvest-festival-5/
LOCATION:St. Christopher’s Church
CATEGORIES:Churches,Family Fun,Social
ATTACH;FMTTYPE=image/jpeg:https://willingalevillage.uk/wp-content/uploads/2017/03/P1210662.jpg
END:VEVENT
BEGIN:VEVENT
DTSTART;TZID=Europe/London:20220911T180000
DTEND;TZID=Europe/London:20220911T190000
DTSTAMP:20260421T063655
CREATED:20220622T080252Z
LAST-MODIFIED:20220909T190543Z
UID:10004817-1662919200-1662922800@willingalevillage.uk
SUMMARY:Evensong
DESCRIPTION:The service of Evensong this Sunday will now be replaced by a Service of Commemoration for the life of Her Majesty the Queen. \nThis will be at the same time of 6pm. \nAll will be most welcome. \n 
URL:https://willingalevillage.uk/event/evensong-3/
LOCATION:St. Christopher’s Church
CATEGORIES:Churches
ATTACH;FMTTYPE=image/jpeg:https://willingalevillage.uk/wp-content/uploads/2017/03/P1210662.jpg
END:VEVENT
END:VCALENDAR