BEGIN:VCALENDAR
VERSION:2.0
PRODID:-//Willingale Village - ECPv6.15.20//NONSGML v1.0//EN
CALSCALE:GREGORIAN
METHOD:PUBLISH
X-WR-CALNAME:Willingale Village
X-ORIGINAL-URL:https://willingalevillage.uk
X-WR-CALDESC:Events for Willingale Village
REFRESH-INTERVAL;VALUE=DURATION:PT1H
X-Robots-Tag:noindex
X-PUBLISHED-TTL:PT1H
BEGIN:VTIMEZONE
TZID:Europe/London
BEGIN:DAYLIGHT
TZOFFSETFROM:+0000
TZOFFSETTO:+0100
TZNAME:BST
DTSTART:20210328T010000
END:DAYLIGHT
BEGIN:STANDARD
TZOFFSETFROM:+0100
TZOFFSETTO:+0000
TZNAME:GMT
DTSTART:20211031T010000
END:STANDARD
BEGIN:DAYLIGHT
TZOFFSETFROM:+0000
TZOFFSETTO:+0100
TZNAME:BST
DTSTART:20220327T010000
END:DAYLIGHT
BEGIN:STANDARD
TZOFFSETFROM:+0100
TZOFFSETTO:+0000
TZNAME:GMT
DTSTART:20221030T010000
END:STANDARD
BEGIN:DAYLIGHT
TZOFFSETFROM:+0000
TZOFFSETTO:+0100
TZNAME:BST
DTSTART:20230326T010000
END:DAYLIGHT
BEGIN:STANDARD
TZOFFSETFROM:+0100
TZOFFSETTO:+0000
TZNAME:GMT
DTSTART:20231029T010000
END:STANDARD
END:VTIMEZONE
BEGIN:VEVENT
DTSTART;TZID=Europe/London:20221029T190000
DTEND;TZID=Europe/London:20221029T223000
DTSTAMP:20260421T130402
CREATED:20221001T120120Z
LAST-MODIFIED:20221003T095303Z
UID:10004601-1667070000-1667082600@willingalevillage.uk
SUMMARY:Quiz Night SOLD OUT!
DESCRIPTION:St Christopher’s are re igniting the wonderful Quiz Night\, \nPlease see flyer attached for full details. \nQuiz flyer A5 V3 \nSOLD OUT
URL:https://willingalevillage.uk/event/quiz-night/
LOCATION:The Main Hall and the Cleminson Room
CATEGORIES:Churches,Family Fun,Social,The Village Hall
ATTACH;FMTTYPE=image/jpeg:https://willingalevillage.uk/wp-content/uploads/2017/03/WVH.jpg
END:VEVENT
BEGIN:VEVENT
DTSTART;TZID=Europe/London:20221023T093000
DTEND;TZID=Europe/London:20221023T103000
DTSTAMP:20260421T130402
CREATED:20220622T074843Z
LAST-MODIFIED:20220622T074843Z
UID:10004812-1666517400-1666521000@willingalevillage.uk
SUMMARY:Family Service
DESCRIPTION:Please join us for a family service led by Jane and Peter 9.30am. \nAll families welcome and children are invited to take part in activities throughout the service in the North Isle. \nRefreshments served afterwards in the North Isle.
URL:https://willingalevillage.uk/event/family-service-11/
LOCATION:St. Christopher’s Church
CATEGORIES:Churches,Family Fun
ATTACH;FMTTYPE=image/jpeg:https://willingalevillage.uk/wp-content/uploads/2017/03/P1210662.jpg
END:VEVENT
BEGIN:VEVENT
DTSTART;TZID=Europe/London:20221009T180000
DTEND;TZID=Europe/London:20221009T190000
DTSTAMP:20260421T130402
CREATED:20220622T080356Z
LAST-MODIFIED:20220622T080356Z
UID:10004818-1665338400-1665342000@willingalevillage.uk
SUMMARY:Evensong
DESCRIPTION:Please join us for a service of Evening Prayer at 6pm led by Reverend Gibbs.
URL:https://willingalevillage.uk/event/evensong-4/
LOCATION:St. Christopher’s Church
CATEGORIES:Churches
ATTACH;FMTTYPE=image/jpeg:https://willingalevillage.uk/wp-content/uploads/2017/03/P1210662.jpg
END:VEVENT
BEGIN:VEVENT
DTSTART;TZID=Europe/London:20221002T093000
DTEND;TZID=Europe/London:20221002T103000
DTSTAMP:20260421T130402
CREATED:20220622T081511Z
LAST-MODIFIED:20220622T081511Z
UID:10004824-1664703000-1664706600@willingalevillage.uk
SUMMARY:Holy Communion
DESCRIPTION:Please join us for a service of Holy Communion at 9.30 am. \nRefreshments will be served afterwards in the North Isle.
URL:https://willingalevillage.uk/event/holy-communion-10/
LOCATION:St. Christopher’s Church
CATEGORIES:Churches
ATTACH;FMTTYPE=image/jpeg:https://willingalevillage.uk/wp-content/uploads/2017/03/P1210662.jpg
END:VEVENT
BEGIN:VEVENT
DTSTART;TZID=Europe/London:20220925T093000
DTEND;TZID=Europe/London:20220925T103000
DTSTAMP:20260421T130402
CREATED:20220622T074735Z
LAST-MODIFIED:20220622T074735Z
UID:10004596-1664098200-1664101800@willingalevillage.uk
SUMMARY:Family Service
DESCRIPTION:Please join us for a family service led by Jane and Peter 9.30am. \nAll families welcome and children are invited to take part in activities throughout the service in the North Isle. \nRefreshments served afterwards in the North Isle.
URL:https://willingalevillage.uk/event/family-service-10/
LOCATION:St. Christopher’s Church
CATEGORIES:Churches,Family Fun
ATTACH;FMTTYPE=image/jpeg:https://willingalevillage.uk/wp-content/uploads/2017/03/P1210662.jpg
END:VEVENT
BEGIN:VEVENT
DTSTART;TZID=Europe/London:20220918T133000
DTEND;TZID=Europe/London:20220918T143000
DTSTAMP:20260421T130402
CREATED:20220815T101710Z
LAST-MODIFIED:20220815T101710Z
UID:10004599-1663507800-1663511400@willingalevillage.uk
SUMMARY:Airfield Memorial Unveiling
DESCRIPTION:Please join us on Sunday 18th September at 1.30pm for the unveiling of the Airfield Memorial at the WW2 Willingale Airfield. \nFyfield Road\nCM5 0QA. \nThe unveiling will be undertaken by our local MP Alex Burghart. \nThere will be a display of  military vehicles and from the Village Archive. \nPlease click the link below for details. \nAirfield poster
URL:https://willingalevillage.uk/event/airfield-memorial-unveiling/
ATTACH;FMTTYPE=image/jpeg:https://willingalevillage.uk/wp-content/uploads/2017/09/Major-Dace-Family.jpg
END:VEVENT
BEGIN:VEVENT
DTSTART;TZID=Europe/London:20220918T093000
DTEND;TZID=Europe/London:20220918T103000
DTSTAMP:20260421T130402
CREATED:20220117T125856Z
LAST-MODIFIED:20220809T082027Z
UID:10004804-1663493400-1663497000@willingalevillage.uk
SUMMARY:Harvest Festival & HOD Weekend
DESCRIPTION:Please join us for a service of Harvest Festival and the Heritage Open Day Weekend. \nRefreshments will be served in the marquee afterwards. \nHOD POSTER 2022
URL:https://willingalevillage.uk/event/harvest-festival-5/
LOCATION:St. Christopher’s Church
CATEGORIES:Churches,Family Fun,Social
ATTACH;FMTTYPE=image/jpeg:https://willingalevillage.uk/wp-content/uploads/2017/03/P1210662.jpg
END:VEVENT
BEGIN:VEVENT
DTSTART;TZID=Europe/London:20220911T180000
DTEND;TZID=Europe/London:20220911T190000
DTSTAMP:20260421T130402
CREATED:20220622T080252Z
LAST-MODIFIED:20220909T190543Z
UID:10004817-1662919200-1662922800@willingalevillage.uk
SUMMARY:Evensong
DESCRIPTION:The service of Evensong this Sunday will now be replaced by a Service of Commemoration for the life of Her Majesty the Queen. \nThis will be at the same time of 6pm. \nAll will be most welcome. \n 
URL:https://willingalevillage.uk/event/evensong-3/
LOCATION:St. Christopher’s Church
CATEGORIES:Churches
ATTACH;FMTTYPE=image/jpeg:https://willingalevillage.uk/wp-content/uploads/2017/03/P1210662.jpg
END:VEVENT
BEGIN:VEVENT
DTSTART;TZID=Europe/London:20220910T193000
DTEND;TZID=Europe/London:20220910T213000
DTSTAMP:20260421T130402
CREATED:20220816T084450Z
LAST-MODIFIED:20220909T191505Z
UID:10004600-1662838200-1662845400@willingalevillage.uk
SUMMARY:People of the Green Concert
DESCRIPTION:With respect to Her Majesty The Queen\, the concert has been cancelled. \nPeople of the Green return in for a Choral Concert. \nPlease click the link below to see the flyer attached for full details. \nPofG flyer V2
URL:https://willingalevillage.uk/event/people-of-the-green-concert/
LOCATION:St. Christopher’s Church
CATEGORIES:Churches,Family Fun,Social
ATTACH;FMTTYPE=image/jpeg:https://willingalevillage.uk/wp-content/uploads/2017/03/P1210662.jpg
END:VEVENT
BEGIN:VEVENT
DTSTART;TZID=Europe/London:20220904T093000
DTEND;TZID=Europe/London:20220904T103000
DTSTAMP:20260421T130402
CREATED:20220622T081411Z
LAST-MODIFIED:20220622T081411Z
UID:10004823-1662283800-1662287400@willingalevillage.uk
SUMMARY:Holy Communion
DESCRIPTION:Please join us for a service of Holy Communion at 9.30 am. \nRefreshments will be served afterwards in the North Isle.
URL:https://willingalevillage.uk/event/holy-communion-9/
LOCATION:St. Christopher’s Church
CATEGORIES:Churches
ATTACH;FMTTYPE=image/jpeg:https://willingalevillage.uk/wp-content/uploads/2017/03/P1210662.jpg
END:VEVENT
BEGIN:VEVENT
DTSTART;TZID=Europe/London:20220828T093000
DTEND;TZID=Europe/London:20220828T103000
DTSTAMP:20260421T130402
CREATED:20220622T074353Z
LAST-MODIFIED:20220622T074353Z
UID:10004595-1661679000-1661682600@willingalevillage.uk
SUMMARY:Family Service
DESCRIPTION:Please join us for a family service led by Jane and Peter 9.30am. \nAll families welcome and children are invited to take part in activities throughout the service in the North Isle. \nRefreshments served afterwards in the North Isle.
URL:https://willingalevillage.uk/event/family-service-9/
LOCATION:St. Christopher’s Church
CATEGORIES:Churches,Family Fun
ATTACH;FMTTYPE=image/jpeg:https://willingalevillage.uk/wp-content/uploads/2017/03/P1210662.jpg
END:VEVENT
BEGIN:VEVENT
DTSTART;TZID=Europe/London:20220814T180000
DTEND;TZID=Europe/London:20220814T190000
DTSTAMP:20260421T130402
CREATED:20220622T080112Z
LAST-MODIFIED:20220622T080112Z
UID:10004816-1660500000-1660503600@willingalevillage.uk
SUMMARY:Even Song
DESCRIPTION:Please join us for a service of Evening Prayer at 6pm led by Reverend Gibbs.
URL:https://willingalevillage.uk/event/even-song/
LOCATION:St. Christopher’s Church
CATEGORIES:Churches
ATTACH;FMTTYPE=image/jpeg:https://willingalevillage.uk/wp-content/uploads/2017/03/P1210662.jpg
END:VEVENT
BEGIN:VEVENT
DTSTART;TZID=Europe/London:20220807T093000
DTEND;TZID=Europe/London:20220807T103000
DTSTAMP:20260421T130402
CREATED:20220622T081311Z
LAST-MODIFIED:20220622T081311Z
UID:10004822-1659864600-1659868200@willingalevillage.uk
SUMMARY:Holy Communion
DESCRIPTION:Please join us for a service of Holy Communion at 9.30 am. \nRefreshments will be served afterwards in the North Isle.
URL:https://willingalevillage.uk/event/holy-communion-8/
LOCATION:St. Christopher’s Church
CATEGORIES:Churches
ATTACH;FMTTYPE=image/jpeg:https://willingalevillage.uk/wp-content/uploads/2017/03/P1210662.jpg
END:VEVENT
BEGIN:VEVENT
DTSTART;TZID=Europe/London:20220724T093000
DTEND;TZID=Europe/London:20220724T103000
DTSTAMP:20260421T130402
CREATED:20220622T074107Z
LAST-MODIFIED:20220622T074107Z
UID:10004594-1658655000-1658658600@willingalevillage.uk
SUMMARY:Family Service
DESCRIPTION:Please join us for a family service led by Jane and Peter 9.30am. \nAll families welcome and children are invited to take part in activities throughout the service in the North Isle. \nRefreshments served afterwards in the North Isle.
URL:https://willingalevillage.uk/event/family-service-8/
CATEGORIES:Churches,Family Fun
ATTACH;FMTTYPE=image/jpeg:https://willingalevillage.uk/wp-content/uploads/2017/03/P1210662.jpg
END:VEVENT
BEGIN:VEVENT
DTSTART;TZID=Europe/London:20220724T093000
DTEND;TZID=Europe/London:20220724T103000
DTSTAMP:20260421T130402
CREATED:20220117T125505Z
LAST-MODIFIED:20220117T125505Z
UID:10004803-1658655000-1658658600@willingalevillage.uk
SUMMARY:St Christopher's Day & Family Service
DESCRIPTION:A special service celebrating the namesake of our church at 9.30am. \nSt Christopher is the patron saint of travel. His feast day is the 24/25th July. \n‘One day\, a child approached St. Christopher by the river and asked to be helped across. St. Christopher obliged. However\, as he entered midstream\, the river rose and the child’s weight grew and became extremely heavy. It was only by great exertion that St. Christopher safely delivered the child to the other side. \nWhen St. Christopher asked the child why he was so heavy\, the child explained that He was the Christ and when St. Christopher carried Him\, he also carried the weight of the whole world on his shoulders. The child then vanished’.
URL:https://willingalevillage.uk/event/st-christophers-day-family-service/
LOCATION:St. Christopher’s Church
CATEGORIES:Churches
ATTACH;FMTTYPE=image/jpeg:https://willingalevillage.uk/wp-content/uploads/2017/03/P1210662.jpg
END:VEVENT
BEGIN:VEVENT
DTSTART;TZID=Europe/London:20220710T180000
DTEND;TZID=Europe/London:20220710T190000
DTSTAMP:20260421T130402
CREATED:20220622T075713Z
LAST-MODIFIED:20220622T080905Z
UID:10004815-1657476000-1657479600@willingalevillage.uk
SUMMARY:Evening prayer
DESCRIPTION:Please join us for a service of Evening Prayer at 6pm led by Reverend Gibbs.
URL:https://willingalevillage.uk/event/evening-prayer-4/
LOCATION:St. Christopher’s Church
CATEGORIES:Churches
ATTACH;FMTTYPE=image/jpeg:https://willingalevillage.uk/wp-content/uploads/2017/03/P1210662.jpg
END:VEVENT
BEGIN:VEVENT
DTSTART;TZID=Europe/London:20220703T093000
DTEND;TZID=Europe/London:20220703T103000
DTSTAMP:20260421T130402
CREATED:20220622T081210Z
LAST-MODIFIED:20220622T081210Z
UID:10004821-1656840600-1656844200@willingalevillage.uk
SUMMARY:Holy Communion
DESCRIPTION:Please join us for a service of Holy Communion at 9.30 am. \nRefreshments will be served afterwards in the North Isle.
URL:https://willingalevillage.uk/event/holy-communion-7/
CATEGORIES:Churches
ATTACH;FMTTYPE=image/jpeg:https://willingalevillage.uk/wp-content/uploads/2017/03/P1210662.jpg
END:VEVENT
BEGIN:VEVENT
DTSTART;TZID=Europe/London:20220626T093000
DTEND;TZID=Europe/London:20220626T103000
DTSTAMP:20260421T130402
CREATED:20220622T073845Z
LAST-MODIFIED:20220622T073845Z
UID:10004593-1656235800-1656239400@willingalevillage.uk
SUMMARY:Family Service
DESCRIPTION:Please join us for a family service led by Jane and Peter 9.30am. \nAll families welcome and children are invited to take part in activities throughout the service in the North Isle. \nRefreshments served afterwards in the North Isle.
URL:https://willingalevillage.uk/event/family-service-7/
CATEGORIES:Churches,Family Fun
ATTACH;FMTTYPE=image/jpeg:https://willingalevillage.uk/wp-content/uploads/2017/03/P1210662.jpg
END:VEVENT
BEGIN:VEVENT
DTSTART;TZID=Europe/London:20220625T120000
DTEND;TZID=Europe/London:20220625T170000
DTSTAMP:20260421T130402
CREATED:20220424T194747Z
LAST-MODIFIED:20220622T072958Z
UID:10004591-1656158400-1656176400@willingalevillage.uk
SUMMARY:Village Day
DESCRIPTION:
URL:https://willingalevillage.uk/event/village-day-2/
LOCATION:The Cricket Field
CATEGORIES:Family Fun,Social
ATTACH;FMTTYPE=image/jpeg:https://willingalevillage.uk/wp-content/uploads/2022/04/fete-poster.jpg
END:VEVENT
BEGIN:VEVENT
DTSTART;TZID=Europe/London:20220612T143000
DTEND;TZID=Europe/London:20220612T170000
DTSTAMP:20260421T130402
CREATED:20220509T100902Z
LAST-MODIFIED:20220909T185527Z
UID:10004592-1655044200-1655053200@willingalevillage.uk
SUMMARY:A Concert in St Christopher's by The Songbirds
DESCRIPTION:  \n \n  \nWe are delighted to invite you to a concert by The Songbirds. \nTo be held in St Christopher’s on Sunday 12th June @2.30 pm. \nTickets are £10\, which include refreshments\, and can be obtained from Jane Cass 01277 896238 or 07900592267. \nWe look forward to seeing you.
URL:https://willingalevillage.uk/event/a-concert-in-st-christophers-by-the-songbirds/
LOCATION:St. Christopher’s Church
CATEGORIES:Churches,Family Fun,Social
ATTACH;FMTTYPE=image/jpeg:https://willingalevillage.uk/wp-content/uploads/2017/03/P1210662.jpg
END:VEVENT
BEGIN:VEVENT
DTSTART;TZID=Europe/London:20220605T103000
DTEND;TZID=Europe/London:20220605T113000
DTSTAMP:20260421T130402
CREATED:20220117T124611Z
LAST-MODIFIED:20220419T094940Z
UID:10004802-1654425000-1654428600@willingalevillage.uk
SUMMARY:Holy Communion Service celebrating The Queen's Jubilee.
DESCRIPTION:Holy Communion Service celebrating The Queens Platinum Jubilee at 10.30am. \nRefreshments will be served afterwards. \nPlease see the home page of the website and click on the logo for the detailed page of the full days events.
URL:https://willingalevillage.uk/event/holy-communion-service-celebrating-the-queens-jubilee/
LOCATION:St. Christopher’s Church
CATEGORIES:Churches
ATTACH;FMTTYPE=image/jpeg:https://willingalevillage.uk/wp-content/uploads/2017/03/P1210662.jpg
END:VEVENT
BEGIN:VEVENT
DTSTART;TZID=Europe/London:20220522T093000
DTEND;TZID=Europe/London:20220522T103000
DTSTAMP:20260421T130402
CREATED:20220125T115828Z
LAST-MODIFIED:20220125T115828Z
UID:10004584-1653211800-1653215400@willingalevillage.uk
SUMMARY:Family Service
DESCRIPTION:Please join us for a family service led by Jane and Peter 9.30am. \nAll families welcome and children are invited to take part in activities throughout the service in the North Isle. \nRefreshments served afterwards in the North Isle.
URL:https://willingalevillage.uk/event/family-service-6/
LOCATION:St. Christopher’s Church
CATEGORIES:Churches,Family Fun,Social
ATTACH;FMTTYPE=image/jpeg:https://willingalevillage.uk/wp-content/uploads/2017/03/P1210662.jpg
END:VEVENT
BEGIN:VEVENT
DTSTART;TZID=Europe/London:20220514T193000
DTEND;TZID=Europe/London:20220514T233000
DTSTAMP:20260421T130402
CREATED:20220424T190150Z
LAST-MODIFIED:20220424T190814Z
UID:10004588-1652556600-1652571000@willingalevillage.uk
SUMMARY:Wamdrams 'Back to the West End'
DESCRIPTION:
URL:https://willingalevillage.uk/event/wamdrams-back-to-the-west-end-2/
LOCATION:The Main Hall
CATEGORIES:Family Fun,Social,Sports and Social,Wamdrams
ATTACH;FMTTYPE=image/jpeg:https://willingalevillage.uk/wp-content/uploads/2022/04/Wamdrams.jpg
END:VEVENT
BEGIN:VEVENT
DTSTART;TZID=Europe/London:20220513T193000
DTEND;TZID=Europe/London:20220513T230000
DTSTAMP:20260421T130402
CREATED:20220424T191115Z
LAST-MODIFIED:20220424T191115Z
UID:10004590-1652470200-1652482800@willingalevillage.uk
SUMMARY:Wamdrams 'Back to the West End'
DESCRIPTION:
URL:https://willingalevillage.uk/event/wamdrams-back-to-the-west-end-3/
LOCATION:The Main Hall
CATEGORIES:Family Fun,Social,Sports and Social,Wamdrams
ATTACH;FMTTYPE=image/jpeg:https://willingalevillage.uk/wp-content/uploads/2022/04/Wamdrams.jpg
END:VEVENT
BEGIN:VEVENT
DTSTART;TZID=Europe/London:20220512T193000
DTEND;TZID=Europe/London:20220512T223000
DTSTAMP:20260421T130402
CREATED:20220424T185812Z
LAST-MODIFIED:20220424T185812Z
UID:10004586-1652383800-1652394600@willingalevillage.uk
SUMMARY:Wamdrams 'Back to the West End'
DESCRIPTION:
URL:https://willingalevillage.uk/event/wamdrams-back-to-the-west-end/
LOCATION:The Main Hall
CATEGORIES:Family Fun,Social,Wamdrams
ATTACH;FMTTYPE=image/jpeg:https://willingalevillage.uk/wp-content/uploads/2022/04/Wamdrams.jpg
END:VEVENT
BEGIN:VEVENT
DTSTART;TZID=Europe/London:20220508T183000
DTEND;TZID=Europe/London:20220508T193000
DTSTAMP:20260421T130402
CREATED:20220125T115412Z
LAST-MODIFIED:20220125T115443Z
UID:10004813-1652034600-1652038200@willingalevillage.uk
SUMMARY:Evening Prayer
DESCRIPTION:Please join us for a service of Evening Prayer at 6pm led by Reverend Gibbs.
URL:https://willingalevillage.uk/event/evening-prayer-3/
LOCATION:St. Christopher’s Church
CATEGORIES:Churches
ATTACH;FMTTYPE=image/jpeg:https://willingalevillage.uk/wp-content/uploads/2017/03/P1210662.jpg
END:VEVENT
BEGIN:VEVENT
DTSTART;TZID=Europe/London:20220501T093000
DTEND;TZID=Europe/London:20220501T103000
DTSTAMP:20260421T130402
CREATED:20220117T123750Z
LAST-MODIFIED:20220117T123750Z
UID:10004801-1651397400-1651401000@willingalevillage.uk
SUMMARY:May Day Service
DESCRIPTION:Please join us for a May Day service at 9.30 am \nRefreshments will be served afterwards. \nCelebrations will continue throughout the day with the crowning of the May Queen\, culminating at the village hall for further entertainment and a BBQ.
URL:https://willingalevillage.uk/event/may-day-service/
LOCATION:St. Christopher’s Church
CATEGORIES:Churches,Family Fun,Social
ATTACH;FMTTYPE=image/jpeg:https://willingalevillage.uk/wp-content/uploads/2017/03/P1210662.jpg
END:VEVENT
BEGIN:VEVENT
DTSTART;TZID=Europe/London:20220424T093000
DTEND;TZID=Europe/London:20220424T103000
DTSTAMP:20260421T130402
CREATED:20220125T114108Z
LAST-MODIFIED:20220125T114108Z
UID:10004811-1650792600-1650796200@willingalevillage.uk
SUMMARY:Family Service
DESCRIPTION:Please join us for a Family Service at 9.30 am led by Jane & Peter. \nAll of the family are welcome and children are invited to take part in activities throughout the service in the North Isle. \nRefreshments will be served afterwards.
URL:https://willingalevillage.uk/event/family-service-5/
LOCATION:St. Christopher’s Church
CATEGORIES:Churches,Family Fun,Social
ATTACH;FMTTYPE=image/jpeg:https://willingalevillage.uk/wp-content/uploads/2017/03/P1210662.jpg
END:VEVENT
BEGIN:VEVENT
DTSTART;TZID=Europe/London:20220417T090000
DTEND;TZID=Europe/London:20220417T100000
DTSTAMP:20260421T130402
CREATED:20220117T123247Z
LAST-MODIFIED:20220117T123247Z
UID:10004800-1650186000-1650189600@willingalevillage.uk
SUMMARY:Easter Service
DESCRIPTION:Please join us for an Easter service at 9am. \nPlease note this is at 9am. \nRefreshments will be served afterwards.
URL:https://willingalevillage.uk/event/easter-service/
LOCATION:St. Christopher’s Church
CATEGORIES:Churches
ATTACH;FMTTYPE=image/jpeg:https://willingalevillage.uk/wp-content/uploads/2017/03/P1210662.jpg
END:VEVENT
BEGIN:VEVENT
DTSTART;TZID=Europe/London:20220410T180000
DTEND;TZID=Europe/London:20220410T190000
DTSTAMP:20260421T130402
CREATED:20220125T113705Z
LAST-MODIFIED:20220125T113705Z
UID:10004810-1649613600-1649617200@willingalevillage.uk
SUMMARY:Evening Prayer
DESCRIPTION:Please join us for a service of Evening Prayer at 6pm led by Reverend Gibbs.
URL:https://willingalevillage.uk/event/evening-prayer-2/
LOCATION:St. Christopher’s Church
CATEGORIES:Churches
ATTACH;FMTTYPE=image/jpeg:https://willingalevillage.uk/wp-content/uploads/2017/03/P1210662.jpg
END:VEVENT
END:VCALENDAR