BEGIN:VCALENDAR
VERSION:2.0
PRODID:-//Willingale Village - ECPv6.15.20//NONSGML v1.0//EN
CALSCALE:GREGORIAN
METHOD:PUBLISH
X-ORIGINAL-URL:https://willingalevillage.uk
X-WR-CALDESC:Events for Willingale Village
REFRESH-INTERVAL;VALUE=DURATION:PT1H
X-Robots-Tag:noindex
X-PUBLISHED-TTL:PT1H
BEGIN:VTIMEZONE
TZID:Europe/London
BEGIN:DAYLIGHT
TZOFFSETFROM:+0000
TZOFFSETTO:+0100
TZNAME:BST
DTSTART:20240331T010000
END:DAYLIGHT
BEGIN:STANDARD
TZOFFSETFROM:+0100
TZOFFSETTO:+0000
TZNAME:GMT
DTSTART:20241027T010000
END:STANDARD
BEGIN:DAYLIGHT
TZOFFSETFROM:+0000
TZOFFSETTO:+0100
TZNAME:BST
DTSTART:20250330T010000
END:DAYLIGHT
BEGIN:STANDARD
TZOFFSETFROM:+0100
TZOFFSETTO:+0000
TZNAME:GMT
DTSTART:20251026T010000
END:STANDARD
BEGIN:DAYLIGHT
TZOFFSETFROM:+0000
TZOFFSETTO:+0100
TZNAME:BST
DTSTART:20260329T010000
END:DAYLIGHT
BEGIN:STANDARD
TZOFFSETFROM:+0100
TZOFFSETTO:+0000
TZNAME:GMT
DTSTART:20261025T010000
END:STANDARD
END:VTIMEZONE
BEGIN:VEVENT
DTSTART;TZID=Europe/London:20250926T103000
DTEND;TZID=Europe/London:20250926T130000
DTSTAMP:20260420T010105
CREATED:20240717T081559Z
LAST-MODIFIED:20240717T081559Z
UID:10005242-1758882600-1758891600@willingalevillage.uk
SUMMARY:Friday Catch Up
DESCRIPTION:Friday Catch Up does ‘Brunch’ at the Village Hall every Friday 10.30am-1pm for Willingale Residents only. \nPop in\, say hello and catch up with friends\, conversation\, local and wider news and Coffee with cops and other organisations that visit. \nWe serve freshly cooked sausages\, bacon\, poached eggs\, hash browns\, mushrooms\, tomatoes and baked beans £5.00.  Lighter options of fruit and toast are also available £2.00\, or just pop in for a coffee/tea and a biscuit £1.00 \nIf you would like to know more\, call Dawn on 01277 896533. \n*Please book in if you require a full meal.
URL:https://willingalevillage.uk/event/friday-catch-up-70/2025-09-26/
LOCATION:The Cleminson Room
CATEGORIES:Family Fun,Other,Social
ATTACH;FMTTYPE=image/png:https://willingalevillage.uk/wp-content/uploads/2017/10/400px-CoffeeCup.svg_.png
END:VEVENT
BEGIN:VEVENT
DTSTART;TZID=Europe/London:20250926T190000
DTEND;TZID=Europe/London:20250926T230000
DTSTAMP:20260420T010105
CREATED:20240717T082054Z
LAST-MODIFIED:20240717T082152Z
UID:10005460-1758913200-1758927600@willingalevillage.uk
SUMMARY:Willingale Sports & Social Club Bar
DESCRIPTION:The bar is open for members.
URL:https://willingalevillage.uk/event/willingale-sports-social-club-bar-129/2025-09-26/
LOCATION:The Cleminson Room
CATEGORIES:Family Fun,Other,Social,Sports and Social
ATTACH;FMTTYPE=image/jpeg:https://willingalevillage.uk/wp-content/uploads/2019/06/ssc430-1.jpg
END:VEVENT
BEGIN:VEVENT
DTSTART;TZID=Europe/London:20250927T193000
DTEND;TZID=Europe/London:20250927T213000
DTSTAMP:20260420T010105
CREATED:20250724T065728Z
LAST-MODIFIED:20250724T065728Z
UID:10005716-1759001400-1759008600@willingalevillage.uk
SUMMARY:People of the Green Concert
DESCRIPTION:Join us for a wonderful return of People of the Green in choral concert. \nPlease click link for full details below. \nPofG flyer 2025
URL:https://willingalevillage.uk/event/people-of-the-green-concert-2/
LOCATION:St. Christopher’s Church
CATEGORIES:Churches,Family Fun,Social
ATTACH;FMTTYPE=image/jpeg:https://willingalevillage.uk/wp-content/uploads/2017/03/P1210662.jpg
END:VEVENT
BEGIN:VEVENT
DTSTART;TZID=Europe/London:20250928T093000
DTEND;TZID=Europe/London:20250928T103000
DTSTAMP:20260420T010105
CREATED:20250217T111212Z
LAST-MODIFIED:20250217T111212Z
UID:10005694-1759051800-1759055400@willingalevillage.uk
SUMMARY:Archdeacon Jonathan Croucher visit for Family Service
DESCRIPTION:Join us as the Archdeacon Jonathan Croucher visits us for the Family Service.
URL:https://willingalevillage.uk/event/archdeacon-jonathan-croucher-visit-for-family-service/
LOCATION:St. Christopher’s Church
CATEGORIES:Churches
ATTACH;FMTTYPE=image/jpeg:https://willingalevillage.uk/wp-content/uploads/2017/03/P1210662.jpg
END:VEVENT
BEGIN:VEVENT
DTSTART;TZID=Europe/London:20250928T140000
DTEND;TZID=Europe/London:20250928T170000
DTSTAMP:20260420T010105
CREATED:20240717T080702Z
LAST-MODIFIED:20240717T080702Z
UID:10004984-1759068000-1759078800@willingalevillage.uk
SUMMARY:Willingale Sports & Social Club Bar
DESCRIPTION:The bar is open for members.
URL:https://willingalevillage.uk/event/willingale-sports-social-club-bar-128/2025-09-28/
LOCATION:The Cleminson Room
CATEGORIES:Family Fun,Other,Social,Sporting,Sports and Social
ATTACH;FMTTYPE=image/jpeg:https://willingalevillage.uk/wp-content/uploads/2019/06/ssc430-1.jpg
END:VEVENT
END:VCALENDAR