BEGIN:VCALENDAR
VERSION:2.0
PRODID:-//Willingale Village - ECPv6.15.20//NONSGML v1.0//EN
CALSCALE:GREGORIAN
METHOD:PUBLISH
X-ORIGINAL-URL:https://willingalevillage.uk
X-WR-CALDESC:Events for Willingale Village
REFRESH-INTERVAL;VALUE=DURATION:PT1H
X-Robots-Tag:noindex
X-PUBLISHED-TTL:PT1H
BEGIN:VTIMEZONE
TZID:Europe/London
BEGIN:DAYLIGHT
TZOFFSETFROM:+0000
TZOFFSETTO:+0100
TZNAME:BST
DTSTART:20160327T010000
END:DAYLIGHT
BEGIN:STANDARD
TZOFFSETFROM:+0100
TZOFFSETTO:+0000
TZNAME:GMT
DTSTART:20161030T010000
END:STANDARD
BEGIN:DAYLIGHT
TZOFFSETFROM:+0000
TZOFFSETTO:+0100
TZNAME:BST
DTSTART:20170326T010000
END:DAYLIGHT
BEGIN:STANDARD
TZOFFSETFROM:+0100
TZOFFSETTO:+0000
TZNAME:GMT
DTSTART:20171029T010000
END:STANDARD
BEGIN:DAYLIGHT
TZOFFSETFROM:+0000
TZOFFSETTO:+0100
TZNAME:BST
DTSTART:20180325T010000
END:DAYLIGHT
BEGIN:STANDARD
TZOFFSETFROM:+0100
TZOFFSETTO:+0000
TZNAME:GMT
DTSTART:20181028T010000
END:STANDARD
BEGIN:DAYLIGHT
TZOFFSETFROM:+0000
TZOFFSETTO:+0100
TZNAME:BST
DTSTART:20190331T010000
END:DAYLIGHT
BEGIN:STANDARD
TZOFFSETFROM:+0100
TZOFFSETTO:+0000
TZNAME:GMT
DTSTART:20191027T010000
END:STANDARD
BEGIN:DAYLIGHT
TZOFFSETFROM:+0000
TZOFFSETTO:+0100
TZNAME:BST
DTSTART:20200329T010000
END:DAYLIGHT
BEGIN:STANDARD
TZOFFSETFROM:+0100
TZOFFSETTO:+0000
TZNAME:GMT
DTSTART:20201025T010000
END:STANDARD
BEGIN:DAYLIGHT
TZOFFSETFROM:+0000
TZOFFSETTO:+0100
TZNAME:BST
DTSTART:20210328T010000
END:DAYLIGHT
BEGIN:STANDARD
TZOFFSETFROM:+0100
TZOFFSETTO:+0000
TZNAME:GMT
DTSTART:20211031T010000
END:STANDARD
BEGIN:DAYLIGHT
TZOFFSETFROM:+0000
TZOFFSETTO:+0100
TZNAME:BST
DTSTART:20220327T010000
END:DAYLIGHT
BEGIN:STANDARD
TZOFFSETFROM:+0100
TZOFFSETTO:+0000
TZNAME:GMT
DTSTART:20221030T010000
END:STANDARD
BEGIN:DAYLIGHT
TZOFFSETFROM:+0000
TZOFFSETTO:+0100
TZNAME:BST
DTSTART:20230326T010000
END:DAYLIGHT
BEGIN:STANDARD
TZOFFSETFROM:+0100
TZOFFSETTO:+0000
TZNAME:GMT
DTSTART:20231029T010000
END:STANDARD
BEGIN:DAYLIGHT
TZOFFSETFROM:+0000
TZOFFSETTO:+0100
TZNAME:BST
DTSTART:20240331T010000
END:DAYLIGHT
BEGIN:STANDARD
TZOFFSETFROM:+0100
TZOFFSETTO:+0000
TZNAME:GMT
DTSTART:20241027T010000
END:STANDARD
END:VTIMEZONE
BEGIN:VEVENT
DTSTART;TZID=Europe/London:20230204T193000
DTEND;TZID=Europe/London:20230204T230000
DTSTAMP:20260421T125818
CREATED:20221124T170550Z
LAST-MODIFIED:20221124T170840Z
UID:10004606-1675539000-1675551600@willingalevillage.uk
SUMMARY:Wamdrams Presents Pinocchio
DESCRIPTION:Please click here for full details.
URL:https://willingalevillage.uk/event/wamdrams-presents-pinocchio-4/
LOCATION:The Main Hall
CATEGORIES:Family Fun,Social,The Village Hall,Wamdrams
ATTACH;FMTTYPE=image/jpeg:https://willingalevillage.uk/wp-content/uploads/2017/03/cropped-Pic2.jpg
END:VEVENT
BEGIN:VEVENT
DTSTART;TZID=Europe/London:20230204T143000
DTEND;TZID=Europe/London:20230204T173000
DTSTAMP:20260421T125818
CREATED:20221124T170334Z
LAST-MODIFIED:20221124T170732Z
UID:10004605-1675521000-1675531800@willingalevillage.uk
SUMMARY:Wamdrams presents Pinocchio
DESCRIPTION:Please click here for full details.
URL:https://willingalevillage.uk/event/wamdrams-presents-pinocchio-3/
LOCATION:The Main Hall
CATEGORIES:Family Fun,Social,The Village Hall,Wamdrams
ATTACH;FMTTYPE=image/jpeg:https://willingalevillage.uk/wp-content/uploads/2017/03/cropped-Pic2.jpg
END:VEVENT
BEGIN:VEVENT
DTSTART;TZID=Europe/London:20230203T193000
DTEND;TZID=Europe/London:20230203T223000
DTSTAMP:20260421T125818
CREATED:20221124T170031Z
LAST-MODIFIED:20221124T170031Z
UID:10004604-1675452600-1675463400@willingalevillage.uk
SUMMARY:Wamdrams Presents Pinocchio
DESCRIPTION:Please click here for \,more details.
URL:https://willingalevillage.uk/event/wamdrams-presents-pinocchio-2/
LOCATION:The Main Hall
CATEGORIES:Family Fun,Social,The Village Hall,Wamdrams
ATTACH;FMTTYPE=image/jpeg:https://willingalevillage.uk/wp-content/uploads/2017/03/cropped-Pic2.jpg
END:VEVENT
BEGIN:VEVENT
DTSTART;TZID=Europe/London:20230202T193000
DTEND;TZID=Europe/London:20230202T223000
DTSTAMP:20260421T125818
CREATED:20221124T165717Z
LAST-MODIFIED:20221124T165717Z
UID:10004603-1675366200-1675377000@willingalevillage.uk
SUMMARY:Wamdrams presents Pinocchio
DESCRIPTION:Please here here for full details.
URL:https://willingalevillage.uk/event/wamdrams-presents-pinocchio/
LOCATION:The Main Hall
CATEGORIES:Family Fun,Social,The Village Hall,Wamdrams
ATTACH;FMTTYPE=image/jpeg:https://willingalevillage.uk/wp-content/uploads/2017/03/cropped-Pic2.jpg
END:VEVENT
BEGIN:VEVENT
DTSTART;TZID=Europe/London:20220514T193000
DTEND;TZID=Europe/London:20220514T233000
DTSTAMP:20260421T125818
CREATED:20220424T190150Z
LAST-MODIFIED:20220424T190814Z
UID:10004588-1652556600-1652571000@willingalevillage.uk
SUMMARY:Wamdrams 'Back to the West End'
DESCRIPTION:
URL:https://willingalevillage.uk/event/wamdrams-back-to-the-west-end-2/
LOCATION:The Main Hall
CATEGORIES:Family Fun,Social,Sports and Social,Wamdrams
ATTACH;FMTTYPE=image/jpeg:https://willingalevillage.uk/wp-content/uploads/2022/04/Wamdrams.jpg
END:VEVENT
BEGIN:VEVENT
DTSTART;TZID=Europe/London:20220513T193000
DTEND;TZID=Europe/London:20220513T230000
DTSTAMP:20260421T125818
CREATED:20220424T191115Z
LAST-MODIFIED:20220424T191115Z
UID:10004590-1652470200-1652482800@willingalevillage.uk
SUMMARY:Wamdrams 'Back to the West End'
DESCRIPTION:
URL:https://willingalevillage.uk/event/wamdrams-back-to-the-west-end-3/
LOCATION:The Main Hall
CATEGORIES:Family Fun,Social,Sports and Social,Wamdrams
ATTACH;FMTTYPE=image/jpeg:https://willingalevillage.uk/wp-content/uploads/2022/04/Wamdrams.jpg
END:VEVENT
BEGIN:VEVENT
DTSTART;TZID=Europe/London:20220512T193000
DTEND;TZID=Europe/London:20220512T223000
DTSTAMP:20260421T125818
CREATED:20220424T185812Z
LAST-MODIFIED:20220424T185812Z
UID:10004586-1652383800-1652394600@willingalevillage.uk
SUMMARY:Wamdrams 'Back to the West End'
DESCRIPTION:
URL:https://willingalevillage.uk/event/wamdrams-back-to-the-west-end/
LOCATION:The Main Hall
CATEGORIES:Family Fun,Social,Wamdrams
ATTACH;FMTTYPE=image/jpeg:https://willingalevillage.uk/wp-content/uploads/2022/04/Wamdrams.jpg
END:VEVENT
BEGIN:VEVENT
DTSTART;TZID=Europe/London:20191130T193000
DTEND;TZID=Europe/London:20191130T230000
DTSTAMP:20260421T125818
CREATED:20191021T102445Z
LAST-MODIFIED:20191021T102445Z
UID:10004539-1575142200-1575154800@willingalevillage.uk
SUMMARY:Wamdrams"14"
DESCRIPTION:This year we are performing “14”\, which sees a return to a 2 part production\, similar to Scrooges’s Christmas Party in 2014. \nThe 1st half will comprise a play which has been specifically written for us with many local references and is based in an old peoples home for retired actors. \nThis will be followed by well known “colour themed” songs in the 2nd half\, which will certainly get your toes tapping. \nPlease contact Clare/ Steve on 01277 286160 \nAdults £12.50 \nChildren under 18 £5.00
URL:https://willingalevillage.uk/event/wamdrams14/
LOCATION:The Village Hall
CATEGORIES:Family Fun,Social,Sports and Social,The Village Hall,Wamdrams
ATTACH;FMTTYPE=image/jpeg:https://willingalevillage.uk/wp-content/uploads/2017/03/Curtain-1.jpg
END:VEVENT
BEGIN:VEVENT
DTSTART;TZID=Europe/London:20191130T143000
DTEND;TZID=Europe/London:20191130T170000
DTSTAMP:20260421T125818
CREATED:20191021T102324Z
LAST-MODIFIED:20191021T102324Z
UID:10004537-1575124200-1575133200@willingalevillage.uk
SUMMARY:Wamdrams "14"
DESCRIPTION:This year we are performing “14”\, which sees a return to a 2 part production\, similar to Scrooges’s Christmas Party in 2014. \nThe 1st half will comprise a play which has been specifically written for us with many local references and is based in an old peoples home for retired actors. \nThis will be followed by well known “colour themed” songs in the 2nd half\, which will certainly get your toes tapping. \nPlease contact Clare/ Steve on 01277 286160 \nAdults £12.50 \nChildren under 18 £5.00
URL:https://willingalevillage.uk/event/wamdrams-14-2/
LOCATION:The Village Hall
CATEGORIES:Family Fun,Social,Sports and Social,The Village Hall,Wamdrams
ATTACH;FMTTYPE=image/jpeg:https://willingalevillage.uk/wp-content/uploads/2017/03/Curtain-1.jpg
END:VEVENT
BEGIN:VEVENT
DTSTART;TZID=Europe/London:20191129T193000
DTEND;TZID=Europe/London:20191129T230000
DTSTAMP:20260421T125818
CREATED:20191021T102152Z
LAST-MODIFIED:20191021T102152Z
UID:10004535-1575055800-1575068400@willingalevillage.uk
SUMMARY:Wamdrans "14"
DESCRIPTION:This year we are performing “14”\, which sees a return to a 2 part production\, similar to Scrooges’s Christmas Party in 2014. \nThe 1st half will comprise a play which has been specifically written for us with many local references and is based in an old peoples home for retired actors. \nThis will be followed by well known “colour themed” songs in the 2nd half\, which will certainly get your toes tapping. \nPlease contact Clare/ Steve on 01277 286160 \nAdults £12.50 \nChildren under 18 £5.00
URL:https://willingalevillage.uk/event/wamdrans-14/
LOCATION:The Village Hall
CATEGORIES:Family Fun,Social,Sports and Social,The Village Hall,Wamdrams
ATTACH;FMTTYPE=image/jpeg:https://willingalevillage.uk/wp-content/uploads/2017/03/Curtain-1.jpg
END:VEVENT
BEGIN:VEVENT
DTSTART;TZID=Europe/London:20191128T193000
DTEND;TZID=Europe/London:20191128T223000
DTSTAMP:20260421T125818
CREATED:20191021T101908Z
LAST-MODIFIED:20191021T101926Z
UID:10004533-1574969400-1574980200@willingalevillage.uk
SUMMARY:Wamdrams "14"
DESCRIPTION:This year we are performing “14”\, which sees a return to a 2 part production\, similar to Scrooges’s Christmas Party in 2014. \nThe 1st half will comprise a play which has been specifically written for us with many local references and is based in an old peoples home for retired actors. \nThis will be followed by well known “colour themed” songs in the 2nd half\, which will certainly get your toes tapping. \nPlease contact Clare/ Steve on 01277 286160 \nAdults £12.50 \nChildren under 18 £5.00
URL:https://willingalevillage.uk/event/wamdrams-14/
CATEGORIES:Family Fun,Social,Sports and Social,The Village Hall,Wamdrams
ATTACH;FMTTYPE=image/jpeg:https://willingalevillage.uk/wp-content/uploads/2017/03/Curtain-1.jpg
END:VEVENT
BEGIN:VEVENT
DTSTART;TZID=Europe/London:20181201T193000
DTEND;TZID=Europe/London:20181201T230000
DTSTAMP:20260421T125818
CREATED:20180912T091614Z
LAST-MODIFIED:20180912T094423Z
UID:10000012-1543692600-1543705200@willingalevillage.uk
SUMMARY:Alice in Wonderland
DESCRIPTION:Wamdrams presents it’s 13th production ‘Alice in Wonderland‘. \nTickets go on sale Friday 12th October from 10am. Call Clare on: 01277 286160.
URL:https://willingalevillage.uk/event/alice-in-wonderland-4/
LOCATION:The Village Hall
CATEGORIES:Wamdrams
ATTACH;FMTTYPE=image/jpeg:https://willingalevillage.uk/wp-content/uploads/2017/03/Curtain-1.jpg
END:VEVENT
BEGIN:VEVENT
DTSTART;TZID=Europe/London:20181201T140000
DTEND;TZID=Europe/London:20181201T170000
DTSTAMP:20260421T125818
CREATED:20180912T091349Z
LAST-MODIFIED:20180912T094458Z
UID:10000011-1543672800-1543683600@willingalevillage.uk
SUMMARY:Alice in Wonderland
DESCRIPTION:Wamdrams presents it’s 13th production ‘Alice in Wonderland‘. \nTickets go on sale Friday 12th October from 10am. Call Clare on: 01277 286160.
URL:https://willingalevillage.uk/event/alice-in-wonderland-3/
LOCATION:The Village Hall
CATEGORIES:Wamdrams
ATTACH;FMTTYPE=image/jpeg:https://willingalevillage.uk/wp-content/uploads/2017/03/Curtain-1.jpg
END:VEVENT
BEGIN:VEVENT
DTSTART;TZID=Europe/London:20181130T193000
DTEND;TZID=Europe/London:20181130T230000
DTSTAMP:20260421T125818
CREATED:20180912T091203Z
LAST-MODIFIED:20180912T094331Z
UID:10004125-1543606200-1543618800@willingalevillage.uk
SUMMARY:Alice in Wonderland
DESCRIPTION:Wamdrams presents it’s 13th production ‘Alice in Wonderland‘. \nTickets go on sale Friday 12th October from 10am. Call Clare on: 01277 286160.
URL:https://willingalevillage.uk/event/alice-in-wonderland-2/
LOCATION:The Village Hall
CATEGORIES:Wamdrams
ATTACH;FMTTYPE=image/jpeg:https://willingalevillage.uk/wp-content/uploads/2017/03/Curtain-1.jpg
END:VEVENT
BEGIN:VEVENT
DTSTART;TZID=Europe/London:20181129T193000
DTEND;TZID=Europe/London:20181129T230000
DTSTAMP:20260421T125818
CREATED:20180912T090426Z
LAST-MODIFIED:20180912T094251Z
UID:10004123-1543519800-1543532400@willingalevillage.uk
SUMMARY:Alice in Wonderland
DESCRIPTION:Wamdrams presents it’s 13th production ‘Alice in Wonderland‘. \nTickets go on sale Friday 12th October from 10am. Call Clare on: 01277 286160.
URL:https://willingalevillage.uk/event/alice-in-wonderland/
LOCATION:The Village Hall
CATEGORIES:Wamdrams
ATTACH;FMTTYPE=image/jpeg:https://willingalevillage.uk/wp-content/uploads/2017/03/Curtain-1.jpg
END:VEVENT
BEGIN:VEVENT
DTSTART;TZID=Europe/London:20171203T023000
DTEND;TZID=Europe/London:20171203T050000
DTSTAMP:20260421T125818
CREATED:20171030T120849Z
LAST-MODIFIED:20171115T120434Z
UID:10003254-1512268200-1512277200@willingalevillage.uk
SUMMARY:The Flint Street Nativity
DESCRIPTION:The ‘not to be missed’ Christmas Wamdrams play.
URL:https://willingalevillage.uk/event/the-flint-street-nativity-3/
LOCATION:The Main Hall
CATEGORIES:Wamdrams
ATTACH;FMTTYPE=image/jpeg:https://willingalevillage.uk/wp-content/uploads/2017/03/Curtain-1.jpg
END:VEVENT
BEGIN:VEVENT
DTSTART;TZID=Europe/London:20171130T143000
DTEND;TZID=Europe/London:20171201T053000
DTSTAMP:20260421T125818
CREATED:20171030T120602Z
LAST-MODIFIED:20171115T120405Z
UID:10001260-1512052200-1512106200@willingalevillage.uk
SUMMARY:The Flint Street Nativity
DESCRIPTION:The ‘not to be missed’ Christmas Wamdrams play.
URL:https://willingalevillage.uk/event/the-flint-street-nativity/
LOCATION:The Main Hall
CATEGORIES:Wamdrams
ATTACH;FMTTYPE=image/jpeg:https://willingalevillage.uk/wp-content/uploads/2017/03/Curtain-1.jpg
END:VEVENT
END:VCALENDAR