BEGIN:VCALENDAR
VERSION:2.0
PRODID:-//Willingale Village - ECPv6.15.20//NONSGML v1.0//EN
CALSCALE:GREGORIAN
METHOD:PUBLISH
X-WR-CALNAME:Willingale Village
X-ORIGINAL-URL:https://willingalevillage.uk
X-WR-CALDESC:Events for Willingale Village
REFRESH-INTERVAL;VALUE=DURATION:PT1H
X-Robots-Tag:noindex
X-PUBLISHED-TTL:PT1H
BEGIN:VTIMEZONE
TZID:Europe/London
BEGIN:DAYLIGHT
TZOFFSETFROM:+0000
TZOFFSETTO:+0100
TZNAME:BST
DTSTART:20190331T010000
END:DAYLIGHT
BEGIN:STANDARD
TZOFFSETFROM:+0100
TZOFFSETTO:+0000
TZNAME:GMT
DTSTART:20191027T010000
END:STANDARD
BEGIN:DAYLIGHT
TZOFFSETFROM:+0000
TZOFFSETTO:+0100
TZNAME:BST
DTSTART:20200329T010000
END:DAYLIGHT
BEGIN:STANDARD
TZOFFSETFROM:+0100
TZOFFSETTO:+0000
TZNAME:GMT
DTSTART:20201025T010000
END:STANDARD
BEGIN:DAYLIGHT
TZOFFSETFROM:+0000
TZOFFSETTO:+0100
TZNAME:BST
DTSTART:20210328T010000
END:DAYLIGHT
BEGIN:STANDARD
TZOFFSETFROM:+0100
TZOFFSETTO:+0000
TZNAME:GMT
DTSTART:20211031T010000
END:STANDARD
BEGIN:DAYLIGHT
TZOFFSETFROM:+0000
TZOFFSETTO:+0100
TZNAME:BST
DTSTART:20220327T010000
END:DAYLIGHT
BEGIN:STANDARD
TZOFFSETFROM:+0100
TZOFFSETTO:+0000
TZNAME:GMT
DTSTART:20221030T010000
END:STANDARD
BEGIN:DAYLIGHT
TZOFFSETFROM:+0000
TZOFFSETTO:+0100
TZNAME:BST
DTSTART:20230326T010000
END:DAYLIGHT
BEGIN:STANDARD
TZOFFSETFROM:+0100
TZOFFSETTO:+0000
TZNAME:GMT
DTSTART:20231029T010000
END:STANDARD
BEGIN:DAYLIGHT
TZOFFSETFROM:+0000
TZOFFSETTO:+0100
TZNAME:BST
DTSTART:20240331T010000
END:DAYLIGHT
BEGIN:STANDARD
TZOFFSETFROM:+0100
TZOFFSETTO:+0000
TZNAME:GMT
DTSTART:20241027T010000
END:STANDARD
BEGIN:DAYLIGHT
TZOFFSETFROM:+0000
TZOFFSETTO:+0100
TZNAME:BST
DTSTART:20250330T010000
END:DAYLIGHT
BEGIN:STANDARD
TZOFFSETFROM:+0100
TZOFFSETTO:+0000
TZNAME:GMT
DTSTART:20251026T010000
END:STANDARD
BEGIN:DAYLIGHT
TZOFFSETFROM:+0000
TZOFFSETTO:+0100
TZNAME:BST
DTSTART:20260329T010000
END:DAYLIGHT
BEGIN:STANDARD
TZOFFSETFROM:+0100
TZOFFSETTO:+0000
TZNAME:GMT
DTSTART:20261025T010000
END:STANDARD
END:VTIMEZONE
BEGIN:VEVENT
DTSTART;TZID=Europe/London:20251206T110000
DTEND;TZID=Europe/London:20251206T130000
DTSTAMP:20260420T123149
CREATED:20251112T103559Z
LAST-MODIFIED:20251112T103604Z
UID:10005720-1765018800-1765026000@willingalevillage.uk
SUMMARY:Children's Christmas Party
DESCRIPTION:
URL:https://willingalevillage.uk/event/childrens-christmas-party-2/
LOCATION:The Main Hall
ATTACH;FMTTYPE=image/jpeg:https://willingalevillage.uk/wp-content/uploads/2017/03/WVH.jpg
END:VEVENT
BEGIN:VEVENT
DTSTART;TZID=Europe/London:20250506T100000
DTEND;TZID=Europe/London:20250506T120000
DTSTAMP:20260420T123149
CREATED:20171013T071748Z
LAST-MODIFIED:20181015T090856Z
UID:10000443-1746525600-1746532800@willingalevillage.uk
SUMMARY:Table Tennis
DESCRIPTION:Table Tennis at the Village Hall every Tuesday
URL:https://willingalevillage.uk/event/table-tennis/2025-05-06/
LOCATION:The Main Hall
CATEGORIES:Sporting
ATTACH;FMTTYPE=image/png:https://willingalevillage.uk/wp-content/uploads/2017/10/Bat-and-Ball.png
END:VEVENT
BEGIN:VEVENT
DTSTART;TZID=Europe/London:20241206T193000
DTEND;TZID=Europe/London:20241206T233000
DTSTAMP:20260420T123149
CREATED:20240911T095539Z
LAST-MODIFIED:20241109T160144Z
UID:10005666-1733513400-1733527800@willingalevillage.uk
SUMMARY:Wreath Making
DESCRIPTION:Join us for an evening of Christmas wreath making. \nPlease click the link below for the flyer details. \nWreath Making
URL:https://willingalevillage.uk/event/wreath-making/
LOCATION:The Main Hall
CATEGORIES:Family Fun,Social,Sports and Social
ATTACH;FMTTYPE=image/jpeg:https://willingalevillage.uk/wp-content/uploads/2019/06/ssc430.jpg
END:VEVENT
BEGIN:VEVENT
DTSTART;TZID=Europe/London:20231006T193000
DTEND;TZID=Europe/London:20231006T233000
DTSTAMP:20260420T123149
CREATED:20230131T131821Z
LAST-MODIFIED:20230131T131821Z
UID:10004837-1696620600-1696635000@willingalevillage.uk
SUMMARY:Greek Night
DESCRIPTION:
URL:https://willingalevillage.uk/event/greek-night/
LOCATION:The Main Hall
CATEGORIES:Family Fun,Other,Social,Sports and Social,The Village Hall
ATTACH;FMTTYPE=image/jpeg:https://willingalevillage.uk/wp-content/uploads/2019/06/ssc430-1.jpg
END:VEVENT
BEGIN:VEVENT
DTSTART;TZID=Europe/London:20230708T120000
DTEND;TZID=Europe/London:20230708T233000
DTSTAMP:20260420T123149
CREATED:20230131T122300Z
LAST-MODIFIED:20230131T122300Z
UID:10004609-1688817600-1688859000@willingalevillage.uk
SUMMARY:WSSC 20th Year Celebration
DESCRIPTION:
URL:https://willingalevillage.uk/event/wssc-20th-year-celebration/
LOCATION:The Main Hall
CATEGORIES:Family Fun,Other,Social,Sports and Social,The Village Hall
ATTACH;FMTTYPE=image/jpeg:https://willingalevillage.uk/wp-content/uploads/2019/06/ssc430-1.jpg
END:VEVENT
BEGIN:VEVENT
DTSTART;TZID=Europe/London:20230514T093000
DTEND;TZID=Europe/London:20230514T170000
DTSTAMP:20260420T123149
CREATED:20230131T120108Z
LAST-MODIFIED:20230213T101852Z
UID:10004835-1684056600-1684083600@willingalevillage.uk
SUMMARY:Rogation Walk & Chilli
DESCRIPTION:
URL:https://willingalevillage.uk/event/rogation-walk-chilli-2/
LOCATION:The Main Hall
CATEGORIES:Churches,Family Fun,Social,Sporting,Sports and Social,The Village Hall
ATTACH;FMTTYPE=image/jpeg:https://willingalevillage.uk/wp-content/uploads/2019/06/ssc430-1.jpg
END:VEVENT
BEGIN:VEVENT
DTSTART;TZID=Europe/London:20230422T190000
DTEND;TZID=Europe/London:20230422T230000
DTSTAMP:20260420T123149
CREATED:20230213T101201Z
LAST-MODIFIED:20230213T101201Z
UID:10004845-1682190000-1682204400@willingalevillage.uk
SUMMARY:Village Hall Committee Quiz
DESCRIPTION:
URL:https://willingalevillage.uk/event/village-hall-committee-quiz/
LOCATION:The Main Hall
CATEGORIES:Family Fun,Other,Social,The Village Hall
ATTACH;FMTTYPE=image/jpeg:https://willingalevillage.uk/wp-content/uploads/2017/03/WVH.jpg
END:VEVENT
BEGIN:VEVENT
DTSTART;TZID=Europe/London:20230204T193000
DTEND;TZID=Europe/London:20230204T230000
DTSTAMP:20260420T123149
CREATED:20221124T170550Z
LAST-MODIFIED:20221124T170840Z
UID:10004606-1675539000-1675551600@willingalevillage.uk
SUMMARY:Wamdrams Presents Pinocchio
DESCRIPTION:Please click here for full details.
URL:https://willingalevillage.uk/event/wamdrams-presents-pinocchio-4/
LOCATION:The Main Hall
CATEGORIES:Family Fun,Social,The Village Hall,Wamdrams
ATTACH;FMTTYPE=image/jpeg:https://willingalevillage.uk/wp-content/uploads/2017/03/cropped-Pic2.jpg
END:VEVENT
BEGIN:VEVENT
DTSTART;TZID=Europe/London:20230204T143000
DTEND;TZID=Europe/London:20230204T173000
DTSTAMP:20260420T123149
CREATED:20221124T170334Z
LAST-MODIFIED:20221124T170732Z
UID:10004605-1675521000-1675531800@willingalevillage.uk
SUMMARY:Wamdrams presents Pinocchio
DESCRIPTION:Please click here for full details.
URL:https://willingalevillage.uk/event/wamdrams-presents-pinocchio-3/
LOCATION:The Main Hall
CATEGORIES:Family Fun,Social,The Village Hall,Wamdrams
ATTACH;FMTTYPE=image/jpeg:https://willingalevillage.uk/wp-content/uploads/2017/03/cropped-Pic2.jpg
END:VEVENT
BEGIN:VEVENT
DTSTART;TZID=Europe/London:20230203T193000
DTEND;TZID=Europe/London:20230203T223000
DTSTAMP:20260420T123149
CREATED:20221124T170031Z
LAST-MODIFIED:20221124T170031Z
UID:10004604-1675452600-1675463400@willingalevillage.uk
SUMMARY:Wamdrams Presents Pinocchio
DESCRIPTION:Please click here for \,more details.
URL:https://willingalevillage.uk/event/wamdrams-presents-pinocchio-2/
LOCATION:The Main Hall
CATEGORIES:Family Fun,Social,The Village Hall,Wamdrams
ATTACH;FMTTYPE=image/jpeg:https://willingalevillage.uk/wp-content/uploads/2017/03/cropped-Pic2.jpg
END:VEVENT
BEGIN:VEVENT
DTSTART;TZID=Europe/London:20230202T193000
DTEND;TZID=Europe/London:20230202T223000
DTSTAMP:20260420T123149
CREATED:20221124T165717Z
LAST-MODIFIED:20221124T165717Z
UID:10004603-1675366200-1675377000@willingalevillage.uk
SUMMARY:Wamdrams presents Pinocchio
DESCRIPTION:Please here here for full details.
URL:https://willingalevillage.uk/event/wamdrams-presents-pinocchio/
LOCATION:The Main Hall
CATEGORIES:Family Fun,Social,The Village Hall,Wamdrams
ATTACH;FMTTYPE=image/jpeg:https://willingalevillage.uk/wp-content/uploads/2017/03/cropped-Pic2.jpg
END:VEVENT
BEGIN:VEVENT
DTSTART;TZID=Europe/London:20220514T193000
DTEND;TZID=Europe/London:20220514T233000
DTSTAMP:20260420T123149
CREATED:20220424T190150Z
LAST-MODIFIED:20220424T190814Z
UID:10004588-1652556600-1652571000@willingalevillage.uk
SUMMARY:Wamdrams 'Back to the West End'
DESCRIPTION:
URL:https://willingalevillage.uk/event/wamdrams-back-to-the-west-end-2/
LOCATION:The Main Hall
CATEGORIES:Family Fun,Social,Sports and Social,Wamdrams
ATTACH;FMTTYPE=image/jpeg:https://willingalevillage.uk/wp-content/uploads/2022/04/Wamdrams.jpg
END:VEVENT
BEGIN:VEVENT
DTSTART;TZID=Europe/London:20220513T193000
DTEND;TZID=Europe/London:20220513T230000
DTSTAMP:20260420T123149
CREATED:20220424T191115Z
LAST-MODIFIED:20220424T191115Z
UID:10004590-1652470200-1652482800@willingalevillage.uk
SUMMARY:Wamdrams 'Back to the West End'
DESCRIPTION:
URL:https://willingalevillage.uk/event/wamdrams-back-to-the-west-end-3/
LOCATION:The Main Hall
CATEGORIES:Family Fun,Social,Sports and Social,Wamdrams
ATTACH;FMTTYPE=image/jpeg:https://willingalevillage.uk/wp-content/uploads/2022/04/Wamdrams.jpg
END:VEVENT
BEGIN:VEVENT
DTSTART;TZID=Europe/London:20220512T193000
DTEND;TZID=Europe/London:20220512T223000
DTSTAMP:20260420T123149
CREATED:20220424T185812Z
LAST-MODIFIED:20220424T185812Z
UID:10004586-1652383800-1652394600@willingalevillage.uk
SUMMARY:Wamdrams 'Back to the West End'
DESCRIPTION:
URL:https://willingalevillage.uk/event/wamdrams-back-to-the-west-end/
LOCATION:The Main Hall
CATEGORIES:Family Fun,Social,Wamdrams
ATTACH;FMTTYPE=image/jpeg:https://willingalevillage.uk/wp-content/uploads/2022/04/Wamdrams.jpg
END:VEVENT
BEGIN:VEVENT
DTSTART;TZID=Europe/London:20210525T100000
DTEND;TZID=Europe/London:20210525T120000
DTSTAMP:20260420T123149
CREATED:20210503T233032Z
LAST-MODIFIED:20210503T233032Z
UID:10004561-1621936800-1621944000@willingalevillage.uk
SUMMARY:Table Tennis
DESCRIPTION:Table Tennis at the Village Hall every Tuesday
URL:https://willingalevillage.uk/event/table-tennis-54/
LOCATION:The Main Hall
CATEGORIES:Sporting
ATTACH;FMTTYPE=image/png:https://willingalevillage.uk/wp-content/uploads/2017/10/Bat-and-Ball.png
END:VEVENT
BEGIN:VEVENT
DTSTART;TZID=Europe/London:20210518T100000
DTEND;TZID=Europe/London:20210518T120000
DTSTAMP:20260420T123149
CREATED:20210503T233031Z
LAST-MODIFIED:20210503T233031Z
UID:10004552-1621332000-1621339200@willingalevillage.uk
SUMMARY:Table Tennis
DESCRIPTION:Table Tennis at the Village Hall every Tuesday
URL:https://willingalevillage.uk/event/table-tennis-53/
LOCATION:The Main Hall
CATEGORIES:Sporting
ATTACH;FMTTYPE=image/png:https://willingalevillage.uk/wp-content/uploads/2017/10/Bat-and-Ball.png
END:VEVENT
BEGIN:VEVENT
DTSTART;TZID=Europe/London:20210511T100000
DTEND;TZID=Europe/London:20210511T120000
DTSTAMP:20260420T123149
CREATED:20210503T233030Z
LAST-MODIFIED:20210503T233030Z
UID:10004776-1620727200-1620734400@willingalevillage.uk
SUMMARY:Table Tennis
DESCRIPTION:Table Tennis at the Village Hall every Tuesday
URL:https://willingalevillage.uk/event/table-tennis-52/
LOCATION:The Main Hall
CATEGORIES:Sporting
ATTACH;FMTTYPE=image/png:https://willingalevillage.uk/wp-content/uploads/2017/10/Bat-and-Ball.png
END:VEVENT
BEGIN:VEVENT
DTSTART;TZID=Europe/London:20210504T100000
DTEND;TZID=Europe/London:20210504T120000
DTSTAMP:20260420T123149
CREATED:20210503T233029Z
LAST-MODIFIED:20210503T233029Z
UID:10004768-1620122400-1620129600@willingalevillage.uk
SUMMARY:Table Tennis
DESCRIPTION:Table Tennis at the Village Hall every Tuesday
URL:https://willingalevillage.uk/event/table-tennis-51/
LOCATION:The Main Hall
CATEGORIES:Sporting
ATTACH;FMTTYPE=image/png:https://willingalevillage.uk/wp-content/uploads/2017/10/Bat-and-Ball.png
END:VEVENT
BEGIN:VEVENT
DTSTART;TZID=Europe/London:20201222T100000
DTEND;TZID=Europe/London:20201222T120000
DTSTAMP:20260420T123149
CREATED:20201209T024026Z
LAST-MODIFIED:20201209T024026Z
UID:10004757-1608631200-1608638400@willingalevillage.uk
SUMMARY:Table Tennis
DESCRIPTION:Table Tennis at the Village Hall every Tuesday
URL:https://willingalevillage.uk/event/table-tennis-49/
LOCATION:The Main Hall
END:VEVENT
BEGIN:VEVENT
DTSTART;TZID=Europe/London:20201215T100000
DTEND;TZID=Europe/London:20201215T120000
DTSTAMP:20260420T123149
CREATED:20210429T164144Z
LAST-MODIFIED:20210429T164144Z
UID:10004762-1608026400-1608033600@willingalevillage.uk
SUMMARY:Table Tennis
DESCRIPTION:Table Tennis at the Village Hall every Tuesday
URL:https://willingalevillage.uk/event/table-tennis-50/
LOCATION:The Main Hall
CATEGORIES:Sporting
ATTACH;FMTTYPE=image/png:https://willingalevillage.uk/wp-content/uploads/2017/10/Bat-and-Ball.png
END:VEVENT
BEGIN:VEVENT
DTSTART;TZID=Europe/London:20201215T100000
DTEND;TZID=Europe/London:20201215T120000
DTSTAMP:20260420T123149
CREATED:20201209T024024Z
LAST-MODIFIED:20210429T164142Z
UID:10004752-1608026400-1608033600@willingalevillage.uk
SUMMARY:Table Tennis
DESCRIPTION:Table Tennis at the Village Hall every Tuesday
URL:https://willingalevillage.uk/event/table-tennis-48/
LOCATION:The Main Hall
CATEGORIES:Sporting
ATTACH;FMTTYPE=image/png:https://willingalevillage.uk/wp-content/uploads/2017/10/Bat-and-Ball.png
END:VEVENT
BEGIN:VEVENT
DTSTART;TZID=Europe/London:20201208T100000
DTEND;TZID=Europe/London:20201208T120000
DTSTAMP:20260420T123149
CREATED:20201209T024023Z
LAST-MODIFIED:20201209T024023Z
UID:10004534-1607421600-1607428800@willingalevillage.uk
SUMMARY:Table Tennis
DESCRIPTION:Table Tennis at the Village Hall every Tuesday
URL:https://willingalevillage.uk/event/table-tennis-47/
LOCATION:The Main Hall
CATEGORIES:Sporting
ATTACH;FMTTYPE=image/png:https://willingalevillage.uk/wp-content/uploads/2017/10/Bat-and-Ball.png
END:VEVENT
BEGIN:VEVENT
DTSTART;TZID=Europe/London:20201208T100000
DTEND;TZID=Europe/London:20201208T120000
DTSTAMP:20260420T123149
CREATED:20201205T185621Z
LAST-MODIFIED:20201209T024023Z
UID:10004524-1607421600-1607428800@willingalevillage.uk
SUMMARY:Table Tennis
DESCRIPTION:Table Tennis at the Village Hall every Tuesday
URL:https://willingalevillage.uk/event/table-tennis-46/
LOCATION:The Main Hall
CATEGORIES:Sporting
ATTACH;FMTTYPE=image/png:https://willingalevillage.uk/wp-content/uploads/2017/10/Bat-and-Ball.png
END:VEVENT
BEGIN:VEVENT
DTSTART;TZID=Europe/London:20201208T100000
DTEND;TZID=Europe/London:20201208T120000
DTSTAMP:20260420T123149
CREATED:20201202T134830Z
LAST-MODIFIED:20201209T024022Z
UID:10004745-1607421600-1607428800@willingalevillage.uk
SUMMARY:Table Tennis
DESCRIPTION:Table Tennis at the Village Hall every Tuesday
URL:https://willingalevillage.uk/event/table-tennis-45/
LOCATION:The Main Hall
CATEGORIES:Sporting
ATTACH;FMTTYPE=image/png:https://willingalevillage.uk/wp-content/uploads/2017/10/Bat-and-Ball.png
END:VEVENT
BEGIN:VEVENT
DTSTART;TZID=Europe/London:20201201T100000
DTEND;TZID=Europe/London:20201201T120000
DTSTAMP:20260420T123149
CREATED:20201202T134828Z
LAST-MODIFIED:20201202T134828Z
UID:10004741-1606816800-1606824000@willingalevillage.uk
SUMMARY:Table Tennis
DESCRIPTION:Table Tennis at the Village Hall every Tuesday
URL:https://willingalevillage.uk/event/table-tennis-44/
LOCATION:The Main Hall
CATEGORIES:Sporting
ATTACH;FMTTYPE=image/png:https://willingalevillage.uk/wp-content/uploads/2017/10/Bat-and-Ball.png
END:VEVENT
BEGIN:VEVENT
DTSTART;TZID=Europe/London:20201201T100000
DTEND;TZID=Europe/London:20201201T120000
DTSTAMP:20260420T123149
CREATED:20201129T063752Z
LAST-MODIFIED:20201202T134828Z
UID:10004516-1606816800-1606824000@willingalevillage.uk
SUMMARY:Table Tennis
DESCRIPTION:Table Tennis at the Village Hall every Tuesday
URL:https://willingalevillage.uk/event/table-tennis-43/
LOCATION:The Main Hall
CATEGORIES:Sporting
ATTACH;FMTTYPE=image/png:https://willingalevillage.uk/wp-content/uploads/2017/10/Bat-and-Ball.png
END:VEVENT
BEGIN:VEVENT
DTSTART;TZID=Europe/London:20201201T100000
DTEND;TZID=Europe/London:20201201T120000
DTSTAMP:20260420T123149
CREATED:20201123T133145Z
LAST-MODIFIED:20201202T134828Z
UID:10004510-1606816800-1606824000@willingalevillage.uk
SUMMARY:Table Tennis
DESCRIPTION:Table Tennis at the Village Hall every Tuesday
URL:https://willingalevillage.uk/event/table-tennis-42/
LOCATION:The Main Hall
CATEGORIES:Sporting
ATTACH;FMTTYPE=image/png:https://willingalevillage.uk/wp-content/uploads/2017/10/Bat-and-Ball.png
END:VEVENT
BEGIN:VEVENT
DTSTART;TZID=Europe/London:20201201T100000
DTEND;TZID=Europe/London:20201201T120000
DTSTAMP:20260420T123149
CREATED:20201120T030814Z
LAST-MODIFIED:20201202T134827Z
UID:10004509-1606816800-1606824000@willingalevillage.uk
SUMMARY:Table Tennis
DESCRIPTION:Table Tennis at the Village Hall every Tuesday
URL:https://willingalevillage.uk/event/table-tennis-40/
LOCATION:The Main Hall
CATEGORIES:Sporting
ATTACH;FMTTYPE=image/png:https://willingalevillage.uk/wp-content/uploads/2017/10/Bat-and-Ball.png
END:VEVENT
BEGIN:VEVENT
DTSTART;TZID=Europe/London:20201124T100000
DTEND;TZID=Europe/London:20201124T120000
DTSTAMP:20260420T123149
CREATED:20201123T133139Z
LAST-MODIFIED:20201123T133139Z
UID:10004735-1606212000-1606219200@willingalevillage.uk
SUMMARY:Table Tennis
DESCRIPTION:Table Tennis at the Village Hall every Tuesday
URL:https://willingalevillage.uk/event/table-tennis-41/
LOCATION:The Main Hall
END:VEVENT
BEGIN:VEVENT
DTSTART;TZID=Europe/London:20201124T100000
DTEND;TZID=Europe/London:20201124T120000
DTSTAMP:20260420T123149
CREATED:20201120T030813Z
LAST-MODIFIED:20201123T133139Z
UID:10004504-1606212000-1606219200@willingalevillage.uk
SUMMARY:Table Tennis
DESCRIPTION:Table Tennis at the Village Hall every Tuesday
URL:https://willingalevillage.uk/event/table-tennis-39/
LOCATION:The Main Hall
CATEGORIES:Sporting
ATTACH;FMTTYPE=image/png:https://willingalevillage.uk/wp-content/uploads/2017/10/Bat-and-Ball.png
END:VEVENT
END:VCALENDAR